BEGIN:VCALENDAR
VERSION:2.0
PRODID:-//富山県専修学校各種学校連合会｜専修（専門）学校・各種学校紹介 - ECPv5.14.1//NONSGML v1.0//EN
CALSCALE:GREGORIAN
METHOD:PUBLISH
X-WR-CALNAME:富山県専修学校各種学校連合会｜専修（専門）学校・各種学校紹介
X-ORIGINAL-URL:https://toyama-senkakuren.or.jp
X-WR-CALDESC:Events for 富山県専修学校各種学校連合会｜専修（専門）学校・各種学校紹介
REFRESH-INTERVAL;VALUE=DURATION:PT1H
X-Robots-Tag:noindex
X-PUBLISHED-TTL:PT1H
BEGIN:VTIMEZONE
TZID:Asia/Tokyo
BEGIN:STANDARD
TZOFFSETFROM:+0900
TZOFFSETTO:+0900
TZNAME:JST
DTSTART:20250101T000000
END:STANDARD
END:VTIMEZONE
BEGIN:VEVENT
DTSTART;VALUE=DATE:20251108
DTEND;VALUE=DATE:20251109
DTSTAMP:20260422T040605
CREATED:20251107T025634Z
LAST-MODIFIED:20251107T025634Z
UID:10422-1762560000-1762646399@toyama-senkakuren.or.jp
SUMMARY:富山リハビリテーション医療福祉大学校
DESCRIPTION:　学科紹介・入試説明はもちろん、個別相談も受け付けています。お申し込みは、こちら
URL:https://toyama-senkakuren.or.jp/events/%e5%af%8c%e5%b1%b1%e3%83%aa%e3%83%8f%e3%83%93%e3%83%aa%e3%83%86%e3%83%bc%e3%82%b7%e3%83%a7%e3%83%b3%e5%8c%bb%e7%99%82%e7%a6%8f%e7%a5%89%e5%a4%a7%e5%ad%a6%e6%a0%a1-27/
CATEGORIES:オープンキャンパス
END:VEVENT
BEGIN:VEVENT
DTSTART;VALUE=DATE:20251108
DTEND;VALUE=DATE:20251109
DTSTAMP:20260422T040605
CREATED:20251107T025817Z
LAST-MODIFIED:20251107T025817Z
UID:10426-1762560000-1762646399@toyama-senkakuren.or.jp
SUMMARY:富山調理製菓専門学校
DESCRIPTION:プロから学ぶ実習体験の他、学科・入試説明もあります。\n事前予約が必要です。お申込みは、こちら \n 
URL:https://toyama-senkakuren.or.jp/events/%e5%af%8c%e5%b1%b1%e8%aa%bf%e7%90%86%e8%a3%bd%e8%8f%93%e5%b0%82%e9%96%80%e5%ad%a6%e6%a0%a1-38/
CATEGORIES:オープンキャンパス
END:VEVENT
BEGIN:VEVENT
DTSTART;VALUE=DATE:20251108
DTEND;VALUE=DATE:20251109
DTSTAMP:20260422T040605
CREATED:20251107T074605Z
LAST-MODIFIED:20251107T074605Z
UID:10437-1762560000-1762646399@toyama-senkakuren.or.jp
SUMMARY:富山OAスクール
DESCRIPTION:総合ビジネス本科の学校見学会と個別相談会です。カリキュラムや学費、就職などについて相談できます。お申込みはこちら
URL:https://toyama-senkakuren.or.jp/events/%e5%af%8c%e5%b1%b1oa%e3%82%b9%e3%82%af%e3%83%bc%e3%83%ab-51/
CATEGORIES:オープンキャンパス
END:VEVENT
END:VCALENDAR