BEGIN:VCALENDAR
VERSION:2.0
PRODID:-//富山県専修学校各種学校連合会｜専修（専門）学校・各種学校紹介 - ECPv5.14.1//NONSGML v1.0//EN
CALSCALE:GREGORIAN
METHOD:PUBLISH
X-WR-CALNAME:富山県専修学校各種学校連合会｜専修（専門）学校・各種学校紹介
X-ORIGINAL-URL:https://toyama-senkakuren.or.jp
X-WR-CALDESC:Events for 富山県専修学校各種学校連合会｜専修（専門）学校・各種学校紹介
REFRESH-INTERVAL;VALUE=DURATION:PT1H
X-Robots-Tag:noindex
X-PUBLISHED-TTL:PT1H
BEGIN:VTIMEZONE
TZID:Asia/Tokyo
BEGIN:STANDARD
TZOFFSETFROM:+0900
TZOFFSETTO:+0900
TZNAME:JST
DTSTART:20250101T000000
END:STANDARD
END:VTIMEZONE
BEGIN:VEVENT
DTSTART;VALUE=DATE:20250125
DTEND;VALUE=DATE:20250126
DTSTAMP:20260422T195041
CREATED:20241219T045341Z
LAST-MODIFIED:20241219T045341Z
UID:8270-1737763200-1737849599@toyama-senkakuren.or.jp
SUMMARY:富山情報ビジネス専門学校
DESCRIPTION:入試や学校についてから、専攻、就職のことまで、資料やHPを見るだけでは伝わらない生の情報を聞いて、将来の自分をイメージしてください。 \nお申込みは こちら
URL:https://toyama-senkakuren.or.jp/events/%e5%af%8c%e5%b1%b1%e6%83%85%e5%a0%b1%e3%83%93%e3%82%b8%e3%83%8d%e3%82%b9%e5%b0%82%e9%96%80%e5%ad%a6%e6%a0%a1-35/
CATEGORIES:オープンキャンパス
END:VEVENT
BEGIN:VEVENT
DTSTART;VALUE=DATE:20250125
DTEND;VALUE=DATE:20250126
DTSTAMP:20260422T195041
CREATED:20241219T045624Z
LAST-MODIFIED:20241219T045624Z
UID:8272-1737763200-1737849599@toyama-senkakuren.or.jp
SUMMARY:高岡第一学園幼稚園教諭・保育士養成所
DESCRIPTION:社会人の方のためのオープンスクール。 \n授業の一部を体験したり、社会人として入学した学生・卒業生の話を聞いたりします。 \n保育や幼児教育に関心のある社会人の方の参加をお待ちしています。 \nお申込みは、こちら。
URL:https://toyama-senkakuren.or.jp/events/%e9%ab%98%e5%b2%a1%e7%ac%ac%e4%b8%80%e5%ad%a6%e5%9c%92%e5%b9%bc%e7%a8%9a%e5%9c%92%e6%95%99%e8%ab%ad%e3%83%bb%e4%bf%9d%e8%82%b2%e5%a3%ab%e9%a4%8a%e6%88%90%e6%89%80-8/
CATEGORIES:オープンキャンパス
END:VEVENT
END:VCALENDAR