BEGIN:VCALENDAR
VERSION:2.0
PRODID:-//富山県専修学校各種学校連合会｜専修（専門）学校・各種学校紹介 - ECPv5.14.1//NONSGML v1.0//EN
CALSCALE:GREGORIAN
METHOD:PUBLISH
X-WR-CALNAME:富山県専修学校各種学校連合会｜専修（専門）学校・各種学校紹介
X-ORIGINAL-URL:https://toyama-senkakuren.or.jp
X-WR-CALDESC:Events for 富山県専修学校各種学校連合会｜専修（専門）学校・各種学校紹介
REFRESH-INTERVAL;VALUE=DURATION:PT1H
X-Robots-Tag:noindex
X-PUBLISHED-TTL:PT1H
BEGIN:VTIMEZONE
TZID:Asia/Tokyo
BEGIN:STANDARD
TZOFFSETFROM:+0900
TZOFFSETTO:+0900
TZNAME:JST
DTSTART:20240101T000000
END:STANDARD
END:VTIMEZONE
BEGIN:VEVENT
DTSTART;VALUE=DATE:20240729
DTEND;VALUE=DATE:20240730
DTSTAMP:20260423T042123
CREATED:20240614T003954Z
LAST-MODIFIED:20240614T003954Z
UID:6118-1722211200-1722297599@toyama-senkakuren.or.jp
SUMMARY:臼井美容専門学校
DESCRIPTION:学科内容・資格取得・就職状況・選考方法・学校行事などの紹介や、質問にもお答えします。\nまた、校舎内の見学や様々な体験もできます。お申し込みは こちら
URL:https://toyama-senkakuren.or.jp/events/%e8%87%bc%e4%ba%95%e7%be%8e%e5%ae%b9%e5%b0%82%e9%96%80%e5%ad%a6%e6%a0%a1-22/
CATEGORIES:オープンキャンパス
END:VEVENT
END:VCALENDAR