BEGIN:VCALENDAR
VERSION:2.0
PRODID:-//富山県専修学校各種学校連合会｜専修（専門）学校・各種学校紹介 - ECPv5.14.1//NONSGML v1.0//EN
CALSCALE:GREGORIAN
METHOD:PUBLISH
X-WR-CALNAME:富山県専修学校各種学校連合会｜専修（専門）学校・各種学校紹介
X-ORIGINAL-URL:https://toyama-senkakuren.or.jp
X-WR-CALDESC:Events for 富山県専修学校各種学校連合会｜専修（専門）学校・各種学校紹介
REFRESH-INTERVAL;VALUE=DURATION:PT1H
X-Robots-Tag:noindex
X-PUBLISHED-TTL:PT1H
BEGIN:VTIMEZONE
TZID:Asia/Tokyo
BEGIN:STANDARD
TZOFFSETFROM:+0900
TZOFFSETTO:+0900
TZNAME:JST
DTSTART:20240101T000000
END:STANDARD
END:VTIMEZONE
BEGIN:VEVENT
DTSTART;VALUE=DATE:20240622
DTEND;VALUE=DATE:20240623
DTSTAMP:20260423T065104
CREATED:20240522T072122Z
LAST-MODIFIED:20240522T072122Z
UID:6011-1719014400-1719100799@toyama-senkakuren.or.jp
SUMMARY:専門学校富山ビューティーカレッジ
DESCRIPTION:美容に関する情報を得たり、授業や美容の世界を体験できます。\n受付から実習まで在校生が案内するため、その場ですぐに質問することができます。お申し込みは こちら
URL:https://toyama-senkakuren.or.jp/events/%e5%b0%82%e9%96%80%e5%ad%a6%e6%a0%a1%e5%af%8c%e5%b1%b1%e3%83%93%e3%83%a5%e3%83%bc%e3%83%86%e3%82%a3%e3%83%bc%e3%82%ab%e3%83%ac%e3%83%83%e3%82%b8-32/
CATEGORIES:オープンキャンパス
END:VEVENT
BEGIN:VEVENT
DTSTART;VALUE=DATE:20240622
DTEND;VALUE=DATE:20240623
DTSTAMP:20260423T065104
CREATED:20240528T004947Z
LAST-MODIFIED:20240528T004947Z
UID:6032-1719014400-1719100799@toyama-senkakuren.or.jp
SUMMARY:富山大原簿記公務員医療専門学校
DESCRIPTION:興味のあるコースの体験ができます。授業内容や資格取得、学校行事など先生から直接説明が聞けます。 \n体験コース：情報IT系、ホテル系、ブライダル系、マンガ・イラスト系、クリエイター系　　お申し込みは、こちら \n  \n 
URL:https://toyama-senkakuren.or.jp/events/%e5%af%8c%e5%b1%b1%e5%a4%a7%e5%8e%9f%e7%b0%bf%e8%a8%98%e5%85%ac%e5%8b%99%e5%93%a1%e5%8c%bb%e7%99%82%e5%b0%82%e9%96%80%e5%ad%a6%e6%a0%a1-24/
CATEGORIES:オープンキャンパス
END:VEVENT
END:VCALENDAR