BEGIN:VCALENDAR
VERSION:2.0
PRODID:-//富山県専修学校各種学校連合会｜専修（専門）学校・各種学校紹介 - ECPv5.14.1//NONSGML v1.0//EN
CALSCALE:GREGORIAN
METHOD:PUBLISH
X-WR-CALNAME:富山県専修学校各種学校連合会｜専修（専門）学校・各種学校紹介
X-ORIGINAL-URL:https://toyama-senkakuren.or.jp
X-WR-CALDESC:Events for 富山県専修学校各種学校連合会｜専修（専門）学校・各種学校紹介
REFRESH-INTERVAL;VALUE=DURATION:PT1H
X-Robots-Tag:noindex
X-PUBLISHED-TTL:PT1H
BEGIN:VTIMEZONE
TZID:Asia/Tokyo
BEGIN:STANDARD
TZOFFSETFROM:+0900
TZOFFSETTO:+0900
TZNAME:JST
DTSTART:20240101T000000
END:STANDARD
END:VTIMEZONE
BEGIN:VEVENT
DTSTART;VALUE=DATE:20240601
DTEND;VALUE=DATE:20240602
DTSTAMP:20260423T064834
CREATED:20240522T070804Z
LAST-MODIFIED:20240522T071654Z
UID:6001-1717200000-1717286399@toyama-senkakuren.or.jp
SUMMARY:総合カレッジSEO
DESCRIPTION:調理実習と学校説明・個別相談があります。お申し込みは、こちら
URL:https://toyama-senkakuren.or.jp/events/%e7%b7%8f%e5%90%88%e3%82%ab%e3%83%ac%e3%83%83%e3%82%b8seo-4/
CATEGORIES:オープンキャンパス
END:VEVENT
BEGIN:VEVENT
DTSTART;VALUE=DATE:20240601
DTEND;VALUE=DATE:20240602
DTSTAMP:20260423T064834
CREATED:20240528T005740Z
LAST-MODIFIED:20240528T005740Z
UID:6034-1717200000-1717286399@toyama-senkakuren.or.jp
SUMMARY:富山OAスクール
DESCRIPTION:総合ビジネス本科の学校見学会と個別相談会です。カリキュラムや学費、就職などについて相談できます。お申込みはこちら
URL:https://toyama-senkakuren.or.jp/events/%e5%af%8c%e5%b1%b1oa%e3%82%b9%e3%82%af%e3%83%bc%e3%83%ab-3/
CATEGORIES:オープンキャンパス
END:VEVENT
END:VCALENDAR