BEGIN:VCALENDAR
VERSION:2.0
PRODID:-//富山県専修学校各種学校連合会｜専修（専門）学校・各種学校紹介 - ECPv5.14.1//NONSGML v1.0//EN
CALSCALE:GREGORIAN
METHOD:PUBLISH
X-WR-CALNAME:富山県専修学校各種学校連合会｜専修（専門）学校・各種学校紹介
X-ORIGINAL-URL:https://toyama-senkakuren.or.jp
X-WR-CALDESC:Events for 富山県専修学校各種学校連合会｜専修（専門）学校・各種学校紹介
REFRESH-INTERVAL;VALUE=DURATION:PT1H
X-Robots-Tag:noindex
X-PUBLISHED-TTL:PT1H
BEGIN:VTIMEZONE
TZID:Asia/Tokyo
BEGIN:STANDARD
TZOFFSETFROM:+0900
TZOFFSETTO:+0900
TZNAME:JST
DTSTART:20230101T000000
END:STANDARD
END:VTIMEZONE
BEGIN:VEVENT
DTSTART;VALUE=DATE:20231007
DTEND;VALUE=DATE:20231009
DTSTAMP:20260423T181418
CREATED:20230831T075146Z
LAST-MODIFIED:20230831T075146Z
UID:5595-1696636800-1696809599@toyama-senkakuren.or.jp
SUMMARY:専門学校　職藝学院
DESCRIPTION:学校や学科の説明の他、プロ職人の先生監修のもと、大工仕事や庭師の仕事を体験出来ます。お申込みは こちら
URL:https://toyama-senkakuren.or.jp/events/%e5%b0%82%e9%96%80%e5%ad%a6%e6%a0%a1%e3%80%80%e8%81%b7%e8%97%9d%e5%ad%a6%e9%99%a2-17/
CATEGORIES:オープンキャンパス
END:VEVENT
END:VCALENDAR