BEGIN:VCALENDAR
VERSION:2.0
PRODID:-//富山県専修学校各種学校連合会｜専修（専門）学校・各種学校紹介 - ECPv5.14.1//NONSGML v1.0//EN
CALSCALE:GREGORIAN
METHOD:PUBLISH
X-WR-CALNAME:富山県専修学校各種学校連合会｜専修（専門）学校・各種学校紹介
X-ORIGINAL-URL:https://toyama-senkakuren.or.jp
X-WR-CALDESC:Events for 富山県専修学校各種学校連合会｜専修（専門）学校・各種学校紹介
REFRESH-INTERVAL;VALUE=DURATION:PT1H
X-Robots-Tag:noindex
X-PUBLISHED-TTL:PT1H
BEGIN:VTIMEZONE
TZID:Asia/Tokyo
BEGIN:STANDARD
TZOFFSETFROM:+0900
TZOFFSETTO:+0900
TZNAME:JST
DTSTART:20230101T000000
END:STANDARD
END:VTIMEZONE
BEGIN:VEVENT
DTSTART;VALUE=DATE:20230322
DTEND;VALUE=DATE:20230325
DTSTAMP:20260424T051722
CREATED:20230202T020512Z
LAST-MODIFIED:20230224T052226Z
UID:2828-1679443200-1679702399@toyama-senkakuren.or.jp
SUMMARY:専門学校　職藝学院
DESCRIPTION:学校や学科の説明の他、プロ職人の先生監修のもと、大工仕事や庭師の仕事を体験出来ます。お申込みは こちら
URL:https://toyama-senkakuren.or.jp/events/%e5%b0%82%e9%96%80%e5%ad%a6%e6%a0%a1%e3%80%80%e8%81%b7%e8%97%9d%e5%ad%a6%e9%99%a2-14/
CATEGORIES:オープンキャンパス
END:VEVENT
BEGIN:VEVENT
DTSTART;VALUE=DATE:20230324
DTEND;VALUE=DATE:20230325
DTSTAMP:20260424T051722
CREATED:20230202T005316Z
LAST-MODIFIED:20230202T005640Z
UID:2807-1679616000-1679702399@toyama-senkakuren.or.jp
SUMMARY:専門学校富山ビューティーカレッジ
DESCRIPTION:美容に関する情報を得たり、授業や美容の世界を体験できます。\n受付から実習まで在校生が案内するため、その場ですぐに質問することができます。お申し込みは こちら
URL:https://toyama-senkakuren.or.jp/events/%e5%b0%82%e9%96%80%e5%ad%a6%e6%a0%a1%e5%af%8c%e5%b1%b1%e3%83%93%e3%83%a5%e3%83%bc%e3%83%86%e3%82%a3%e3%83%bc%e3%82%ab%e3%83%ac%e3%83%83%e3%82%b8-17/
CATEGORIES:オープンキャンパス
END:VEVENT
END:VCALENDAR