BEGIN:VCALENDAR
VERSION:2.0
PRODID:-//富山県専修学校各種学校連合会｜専修（専門）学校・各種学校紹介 - ECPv5.14.1//NONSGML v1.0//EN
CALSCALE:GREGORIAN
METHOD:PUBLISH
X-WR-CALNAME:富山県専修学校各種学校連合会｜専修（専門）学校・各種学校紹介
X-ORIGINAL-URL:https://toyama-senkakuren.or.jp
X-WR-CALDESC:Events for 富山県専修学校各種学校連合会｜専修（専門）学校・各種学校紹介
REFRESH-INTERVAL;VALUE=DURATION:PT1H
X-Robots-Tag:noindex
X-PUBLISHED-TTL:PT1H
BEGIN:VTIMEZONE
TZID:Asia/Tokyo
BEGIN:STANDARD
TZOFFSETFROM:+0900
TZOFFSETTO:+0900
TZNAME:JST
DTSTART:20220101T000000
END:STANDARD
END:VTIMEZONE
BEGIN:VEVENT
DTSTART;VALUE=DATE:20220820
DTEND;VALUE=DATE:20220821
DTSTAMP:20260424T154530
CREATED:20220624T020749Z
LAST-MODIFIED:20220624T020816Z
UID:1260-1660953600-1661039999@toyama-senkakuren.or.jp
SUMMARY:専門学校富山ビューティーカレッジ
DESCRIPTION:美容に関する情報を得たり、授業や美容の世界を体験できます。\n受付から実習まで在校生が案内するため、その場ですぐに質問することができます。
URL:https://toyama-senkakuren.or.jp/events/%e5%b0%82%e9%96%80%e5%ad%a6%e6%a0%a1%e5%af%8c%e5%b1%b1%e3%83%93%e3%83%a5%e3%83%bc%e3%83%86%e3%82%a3%e3%83%bc%e3%82%ab%e3%83%ac%e3%83%83%e3%82%b8-7/
CATEGORIES:オープンキャンパス
END:VEVENT
BEGIN:VEVENT
DTSTART;VALUE=DATE:20220820
DTEND;VALUE=DATE:20220821
DTSTAMP:20260424T154530
CREATED:20220804T021144Z
LAST-MODIFIED:20220804T021144Z
UID:2635-1660953600-1661039999@toyama-senkakuren.or.jp
SUMMARY:専門学校　職藝学院
DESCRIPTION:学校や学科の説明の他、プロ職人の先生監修のもと、大工仕事や庭師の仕事を体験出来ます。
URL:https://toyama-senkakuren.or.jp/events/%e5%b0%82%e9%96%80%e5%ad%a6%e6%a0%a1%e3%80%80%e8%81%b7%e8%97%9d%e5%ad%a6%e9%99%a2-3/
CATEGORIES:オープンキャンパス
END:VEVENT
BEGIN:VEVENT
DTSTART;VALUE=DATE:20220820
DTEND;VALUE=DATE:20220821
DTSTAMP:20260424T154530
CREATED:20220624T024031Z
LAST-MODIFIED:20220624T024031Z
UID:1295-1660953600-1661039999@toyama-senkakuren.or.jp
SUMMARY:高岡第一学園幼稚園教諭・保育士養成所
DESCRIPTION:高校生のための幼児教育体験講座。 \n午前中は幼稚園で子どもたちと遊び、午後からは幼児教育について学習します。未来の職業選択のきっかけができると思います。子ども大好き！そして幼児教育に関心のあるみなさんの参加を待っています！
URL:https://toyama-senkakuren.or.jp/events/%e9%ab%98%e5%b2%a1%e7%ac%ac%e4%b8%80%e5%ad%a6%e5%9c%92%e5%b9%bc%e7%a8%9a%e5%9c%92%e6%95%99%e8%ab%ad%e3%83%bb%e4%bf%9d%e8%82%b2%e5%a3%ab%e9%a4%8a%e6%88%90%e6%89%80-2/
CATEGORIES:オープンキャンパス
END:VEVENT
END:VCALENDAR