BEGIN:VCALENDAR
VERSION:2.0
PRODID:-//富山県専修学校各種学校連合会｜専修（専門）学校・各種学校紹介 - ECPv5.14.1//NONSGML v1.0//EN
CALSCALE:GREGORIAN
METHOD:PUBLISH
X-WR-CALNAME:富山県専修学校各種学校連合会｜専修（専門）学校・各種学校紹介
X-ORIGINAL-URL:https://toyama-senkakuren.or.jp
X-WR-CALDESC:Events for 富山県専修学校各種学校連合会｜専修（専門）学校・各種学校紹介
REFRESH-INTERVAL;VALUE=DURATION:PT1H
X-Robots-Tag:noindex
X-PUBLISHED-TTL:PT1H
BEGIN:VTIMEZONE
TZID:Asia/Tokyo
BEGIN:STANDARD
TZOFFSETFROM:+0900
TZOFFSETTO:+0900
TZNAME:JST
DTSTART:20220101T000000
END:STANDARD
END:VTIMEZONE
BEGIN:VEVENT
DTSTART;VALUE=DATE:20220727
DTEND;VALUE=DATE:20220728
DTSTAMP:20260424T171848
CREATED:20220527T060820Z
LAST-MODIFIED:20220527T060820Z
UID:746-1658880000-1658966399@toyama-senkakuren.or.jp
SUMMARY:富山調理製菓専門学校
DESCRIPTION:プロから学ぶ実習体験の他、学科・入試説明もあります。\n事前予約が必要です。
URL:https://toyama-senkakuren.or.jp/events/%e5%af%8c%e5%b1%b1%e8%aa%bf%e7%90%86%e8%a3%bd%e8%8f%93%e5%b0%82%e9%96%80%e5%ad%a6%e6%a0%a1-5/
CATEGORIES:オープンキャンパス
END:VEVENT
BEGIN:VEVENT
DTSTART;VALUE=DATE:20220727
DTEND;VALUE=DATE:20220728
DTSTAMP:20260424T171848
CREATED:20220527T075427Z
LAST-MODIFIED:20220527T075807Z
UID:763-1658880000-1658966399@toyama-senkakuren.or.jp
SUMMARY:高岡第一学園幼稚園教諭・保育士養成所
DESCRIPTION:高校生のための幼児教育体験講座。 \n午前中は幼稚園で子どもたちと遊び、午後からは幼児教育について学習します。未来の職業選択のきっかけができると思います。子ども大好き！そして幼児教育に関心のあるみなさんの参加を待っています！
URL:https://toyama-senkakuren.or.jp/events/%e9%ab%98%e5%b2%a1%e7%ac%ac%e4%b8%80%e5%ad%a6%e5%9c%92%e5%b9%bc%e7%a8%9a%e5%9c%92%e6%95%99%e8%ab%ad%e3%83%bb%e4%bf%9d%e8%82%b2%e5%a3%ab%e9%a4%8a%e6%88%90%e6%89%80/
CATEGORIES:オープンキャンパス
END:VEVENT
END:VCALENDAR