BEGIN:VCALENDAR
VERSION:2.0
PRODID:-//富山県専修学校各種学校連合会｜専修（専門）学校・各種学校紹介 - ECPv5.14.1//NONSGML v1.0//EN
CALSCALE:GREGORIAN
METHOD:PUBLISH
X-WR-CALNAME:富山県専修学校各種学校連合会｜専修（専門）学校・各種学校紹介
X-ORIGINAL-URL:https://toyama-senkakuren.or.jp
X-WR-CALDESC:Events for 富山県専修学校各種学校連合会｜専修（専門）学校・各種学校紹介
REFRESH-INTERVAL;VALUE=DURATION:PT1H
X-Robots-Tag:noindex
X-PUBLISHED-TTL:PT1H
BEGIN:VTIMEZONE
TZID:Asia/Tokyo
BEGIN:STANDARD
TZOFFSETFROM:+0900
TZOFFSETTO:+0900
TZNAME:JST
DTSTART:20250101T000000
END:STANDARD
END:VTIMEZONE
BEGIN:VEVENT
DTSTART;VALUE=DATE:20250507
DTEND;VALUE=DATE:20250508
DTSTAMP:20260422T115051
CREATED:20250410T063850Z
LAST-MODIFIED:20250410T063850Z
UID:8413-1746576000-1746662399@toyama-senkakuren.or.jp
SUMMARY:富山OAスクール
DESCRIPTION:総合ビジネス本科の学校見学会と個別相談会です。カリキュラムや学費、就職などについて相談できます。お申込みはこちら
URL:https://toyama-senkakuren.or.jp/events/%e5%af%8c%e5%b1%b1oa%e3%82%b9%e3%82%af%e3%83%bc%e3%83%ab-23/
CATEGORIES:オープンキャンパス
END:VEVENT
BEGIN:VEVENT
DTSTART;VALUE=DATE:20250510
DTEND;VALUE=DATE:20250511
DTSTAMP:20260422T115051
CREATED:20250410T061527Z
LAST-MODIFIED:20250410T061527Z
UID:8393-1746835200-1746921599@toyama-senkakuren.or.jp
SUMMARY:富山大原簿記公務員医療専門学校
DESCRIPTION:興味のあるコースの体験ができます。授業内容や資格取得、学校行事など先生から直接説明が聞けます。 \n体験コース：情報IT系、ホテル系、ブライダル系、マンガ・イラスト系、クリエイター系　　お申し込みは、こちら \n  \n 
URL:https://toyama-senkakuren.or.jp/events/%e5%af%8c%e5%b1%b1%e5%a4%a7%e5%8e%9f%e7%b0%bf%e8%a8%98%e5%85%ac%e5%8b%99%e5%93%a1%e5%8c%bb%e7%99%82%e5%b0%82%e9%96%80%e5%ad%a6%e6%a0%a1-49/
CATEGORIES:オープンキャンパス
END:VEVENT
BEGIN:VEVENT
DTSTART;VALUE=DATE:20250510
DTEND;VALUE=DATE:20250511
DTSTAMP:20260422T115051
CREATED:20250410T064034Z
LAST-MODIFIED:20250410T064034Z
UID:8415-1746835200-1746921599@toyama-senkakuren.or.jp
SUMMARY:富山OAスクール
DESCRIPTION:総合ビジネス本科の学校見学会と個別相談会です。カリキュラムや学費、就職などについて相談できます。お申込みはこちら
URL:https://toyama-senkakuren.or.jp/events/%e5%af%8c%e5%b1%b1oa%e3%82%b9%e3%82%af%e3%83%bc%e3%83%ab-24/
CATEGORIES:オープンキャンパス
END:VEVENT
BEGIN:VEVENT
DTSTART;VALUE=DATE:20250514
DTEND;VALUE=DATE:20250515
DTSTAMP:20260422T115051
CREATED:20250410T065434Z
LAST-MODIFIED:20250425T020114Z
UID:8417-1747180800-1747267199@toyama-senkakuren.or.jp
SUMMARY:富山OAスクール
DESCRIPTION:総合ビジネス本科の学校見学会と個別相談会です。カリキュラムや学費、就職などについて相談できます。お申込みはこちら
URL:https://toyama-senkakuren.or.jp/events/%e5%af%8c%e5%b1%b1oa%e3%82%b9%e3%82%af%e3%83%bc%e3%83%ab-25/
CATEGORIES:オープンキャンパス
END:VEVENT
BEGIN:VEVENT
DTSTART;VALUE=DATE:20250517
DTEND;VALUE=DATE:20250518
DTSTAMP:20260422T115051
CREATED:20250410T055950Z
LAST-MODIFIED:20250410T055950Z
UID:8375-1747440000-1747526399@toyama-senkakuren.or.jp
SUMMARY:富山リハビリテーション医療福祉大学校
DESCRIPTION:　学科紹介・入試説明はもちろん、個別相談も受け付けています。お申し込みは、こちら
URL:https://toyama-senkakuren.or.jp/events/%e5%af%8c%e5%b1%b1%e3%83%aa%e3%83%8f%e3%83%93%e3%83%aa%e3%83%86%e3%83%bc%e3%82%b7%e3%83%a7%e3%83%b3%e5%8c%bb%e7%99%82%e7%a6%8f%e7%a5%89%e5%a4%a7%e5%ad%a6%e6%a0%a1-20/
CATEGORIES:オープンキャンパス
END:VEVENT
BEGIN:VEVENT
DTSTART;VALUE=DATE:20250517
DTEND;VALUE=DATE:20250518
DTSTAMP:20260422T115051
CREATED:20250410T061748Z
LAST-MODIFIED:20250410T061748Z
UID:8395-1747440000-1747526399@toyama-senkakuren.or.jp
SUMMARY:富山大原簿記公務員医療専門学校
DESCRIPTION:興味のあるコースの体験ができます。授業内容や資格取得、学校行事など先生から直接説明が聞けます。 \n体験コース：公務員系、ビジネスライセンス系、医療事務系　　お申し込みは、こちら \n  \n 
URL:https://toyama-senkakuren.or.jp/events/%e5%af%8c%e5%b1%b1%e5%a4%a7%e5%8e%9f%e7%b0%bf%e8%a8%98%e5%85%ac%e5%8b%99%e5%93%a1%e5%8c%bb%e7%99%82%e5%b0%82%e9%96%80%e5%ad%a6%e6%a0%a1-50/
CATEGORIES:オープンキャンパス
END:VEVENT
BEGIN:VEVENT
DTSTART;VALUE=DATE:20250517
DTEND;VALUE=DATE:20250518
DTSTAMP:20260422T115051
CREATED:20250410T060653Z
LAST-MODIFIED:20250410T060653Z
UID:8387-1747440000-1747526399@toyama-senkakuren.or.jp
SUMMARY:富山情報ビジネス専門学校
DESCRIPTION:入試や学校についてから、専攻、就職のことまで、資料やHPを見るだけでは伝わらない生の情報を聞いて、将来の自分をイメージしてください。 \nお申込みは こちら
URL:https://toyama-senkakuren.or.jp/events/%e5%af%8c%e5%b1%b1%e6%83%85%e5%a0%b1%e3%83%93%e3%82%b8%e3%83%8d%e3%82%b9%e5%b0%82%e9%96%80%e5%ad%a6%e6%a0%a1-39/
CATEGORIES:オープンキャンパス
END:VEVENT
BEGIN:VEVENT
DTSTART;VALUE=DATE:20250517
DTEND;VALUE=DATE:20250518
DTSTAMP:20260422T115051
CREATED:20250410T060206Z
LAST-MODIFIED:20250410T060206Z
UID:8379-1747440000-1747526399@toyama-senkakuren.or.jp
SUMMARY:富山調理製菓専門学校
DESCRIPTION:プロから学ぶ実習体験の他、学科・入試説明もあります。\n事前予約が必要です。お申込みは、こちら \n 
URL:https://toyama-senkakuren.or.jp/events/%e5%af%8c%e5%b1%b1%e8%aa%bf%e7%90%86%e8%a3%bd%e8%8f%93%e5%b0%82%e9%96%80%e5%ad%a6%e6%a0%a1-31/
CATEGORIES:オープンキャンパス
END:VEVENT
BEGIN:VEVENT
DTSTART;VALUE=DATE:20250517
DTEND;VALUE=DATE:20250518
DTSTAMP:20260422T115051
CREATED:20250425T020204Z
LAST-MODIFIED:20250425T020204Z
UID:8423-1747440000-1747526399@toyama-senkakuren.or.jp
SUMMARY:富山OAスクール
DESCRIPTION:総合ビジネス本科の学校見学会と個別相談会です。カリキュラムや学費、就職などについて相談できます。お申込みはこちら
URL:https://toyama-senkakuren.or.jp/events/%e5%af%8c%e5%b1%b1oa%e3%82%b9%e3%82%af%e3%83%bc%e3%83%ab-26/
CATEGORIES:オープンキャンパス
END:VEVENT
BEGIN:VEVENT
DTSTART;VALUE=DATE:20250518
DTEND;VALUE=DATE:20250519
DTSTAMP:20260422T115051
CREATED:20250410T060441Z
LAST-MODIFIED:20250410T060441Z
UID:8383-1747526400-1747612799@toyama-senkakuren.or.jp
SUMMARY:富山県理容美容専門学校
DESCRIPTION:カットやヘアアレンジ、ネイル、エステなど色々な技術を体験できるほか、教員によるデモンストレーションもあります。お申し込みは、こちら
URL:https://toyama-senkakuren.or.jp/events/%e5%af%8c%e5%b1%b1%e7%9c%8c%e7%90%86%e5%ae%b9%e7%be%8e%e5%ae%b9%e5%b0%82%e9%96%80%e5%ad%a6%e6%a0%a1-51/
CATEGORIES:オープンキャンパス
END:VEVENT
BEGIN:VEVENT
DTSTART;VALUE=DATE:20250521
DTEND;VALUE=DATE:20250522
DTSTAMP:20260422T115051
CREATED:20250425T020254Z
LAST-MODIFIED:20250425T020254Z
UID:8425-1747785600-1747871999@toyama-senkakuren.or.jp
SUMMARY:富山OAスクール
DESCRIPTION:総合ビジネス本科の学校見学会と個別相談会です。カリキュラムや学費、就職などについて相談できます。お申込みはこちら
URL:https://toyama-senkakuren.or.jp/events/%e5%af%8c%e5%b1%b1oa%e3%82%b9%e3%82%af%e3%83%bc%e3%83%ab-27/
CATEGORIES:オープンキャンパス
END:VEVENT
BEGIN:VEVENT
DTSTART;VALUE=DATE:20250524
DTEND;VALUE=DATE:20250525
DTSTAMP:20260422T115051
CREATED:20250410T062059Z
LAST-MODIFIED:20250410T062059Z
UID:8399-1748044800-1748131199@toyama-senkakuren.or.jp
SUMMARY:専門学校富山ビューティーカレッジ
DESCRIPTION:美容に関する情報を得たり、授業や美容の世界を体験できます。\n受付から実習まで在校生が案内するため、その場ですぐに質問することができます。お申し込みは こちら
URL:https://toyama-senkakuren.or.jp/events/%e5%b0%82%e9%96%80%e5%ad%a6%e6%a0%a1%e5%af%8c%e5%b1%b1%e3%83%93%e3%83%a5%e3%83%bc%e3%83%86%e3%82%a3%e3%83%bc%e3%82%ab%e3%83%ac%e3%83%83%e3%82%b8-47/
CATEGORIES:オープンキャンパス
END:VEVENT
BEGIN:VEVENT
DTSTART;VALUE=DATE:20250524
DTEND;VALUE=DATE:20250525
DTSTAMP:20260422T115051
CREATED:20250425T020346Z
LAST-MODIFIED:20250425T020346Z
UID:8427-1748044800-1748131199@toyama-senkakuren.or.jp
SUMMARY:富山OAスクール
DESCRIPTION:総合ビジネス本科の学校見学会と個別相談会です。カリキュラムや学費、就職などについて相談できます。お申込みはこちら
URL:https://toyama-senkakuren.or.jp/events/%e5%af%8c%e5%b1%b1oa%e3%82%b9%e3%82%af%e3%83%bc%e3%83%ab-28/
CATEGORIES:オープンキャンパス
END:VEVENT
BEGIN:VEVENT
DTSTART;VALUE=DATE:20250531
DTEND;VALUE=DATE:20250601
DTSTAMP:20260422T115051
CREATED:20250529T015637Z
LAST-MODIFIED:20250529T015637Z
UID:8487-1748649600-1748735999@toyama-senkakuren.or.jp
SUMMARY:富山OAスクール
DESCRIPTION:総合ビジネス本科の学校見学会と個別相談会です。カリキュラムや学費、就職などについて相談できます。お申込みはこちら
URL:https://toyama-senkakuren.or.jp/events/%e5%af%8c%e5%b1%b1oa%e3%82%b9%e3%82%af%e3%83%bc%e3%83%ab-29/
CATEGORIES:オープンキャンパス
END:VEVENT
END:VCALENDAR