BEGIN:VCALENDAR
VERSION:2.0
PRODID:-//富山県専修学校各種学校連合会｜専修（専門）学校・各種学校紹介 - ECPv5.14.1//NONSGML v1.0//EN
CALSCALE:GREGORIAN
METHOD:PUBLISH
X-WR-CALNAME:富山県専修学校各種学校連合会｜専修（専門）学校・各種学校紹介
X-ORIGINAL-URL:https://toyama-senkakuren.or.jp
X-WR-CALDESC:Events for 富山県専修学校各種学校連合会｜専修（専門）学校・各種学校紹介
REFRESH-INTERVAL;VALUE=DURATION:PT1H
X-Robots-Tag:noindex
X-PUBLISHED-TTL:PT1H
BEGIN:VTIMEZONE
TZID:Asia/Tokyo
BEGIN:STANDARD
TZOFFSETFROM:+0900
TZOFFSETTO:+0900
TZNAME:JST
DTSTART:20250101T000000
END:STANDARD
END:VTIMEZONE
BEGIN:VEVENT
DTSTART;VALUE=DATE:20250301
DTEND;VALUE=DATE:20250302
DTSTAMP:20260422T145836
CREATED:20250219T041406Z
LAST-MODIFIED:20250219T041406Z
UID:8315-1740787200-1740873599@toyama-senkakuren.or.jp
SUMMARY:富山OAスクール
DESCRIPTION:総合ビジネス本科の学校見学会と個別相談会です。カリキュラムや学費、就職などについて相談できます。お申込みはこちら
URL:https://toyama-senkakuren.or.jp/events/%e5%af%8c%e5%b1%b1oa%e3%82%b9%e3%82%af%e3%83%bc%e3%83%ab-10/
CATEGORIES:オープンキャンパス
END:VEVENT
BEGIN:VEVENT
DTSTART;VALUE=DATE:20250308
DTEND;VALUE=DATE:20250309
DTSTAMP:20260422T145836
CREATED:20250219T042952Z
LAST-MODIFIED:20250219T042952Z
UID:8337-1741392000-1741478399@toyama-senkakuren.or.jp
SUMMARY:富山大原簿記公務員医療専門学校
DESCRIPTION:興味のあるコースの体験ができます。授業内容や資格取得、学校行事など先生から直接説明が聞けます。 \n体験コース：公務員系、ビジネスライセンス系、医療事務系　　お申し込みは、こちら \n  \n 
URL:https://toyama-senkakuren.or.jp/events/%e5%af%8c%e5%b1%b1%e5%a4%a7%e5%8e%9f%e7%b0%bf%e8%a8%98%e5%85%ac%e5%8b%99%e5%93%a1%e5%8c%bb%e7%99%82%e5%b0%82%e9%96%80%e5%ad%a6%e6%a0%a1-46/
CATEGORIES:オープンキャンパス
END:VEVENT
BEGIN:VEVENT
DTSTART;VALUE=DATE:20250308
DTEND;VALUE=DATE:20250309
DTSTAMP:20260422T145836
CREATED:20250214T060539Z
LAST-MODIFIED:20250214T060539Z
UID:8309-1741392000-1741478399@toyama-senkakuren.or.jp
SUMMARY:富山県理容美容専門学校
DESCRIPTION:カットやヘアアレンジ、ネイル、エステなど色々な技術を体験できるほか、教員によるデモンストレーションもあります。お申し込みは、こちら
URL:https://toyama-senkakuren.or.jp/events/%e5%af%8c%e5%b1%b1%e7%9c%8c%e7%90%86%e5%ae%b9%e7%be%8e%e5%ae%b9%e5%b0%82%e9%96%80%e5%ad%a6%e6%a0%a1-49/
CATEGORIES:オープンキャンパス
END:VEVENT
BEGIN:VEVENT
DTSTART;VALUE=DATE:20250312
DTEND;VALUE=DATE:20250313
DTSTAMP:20260422T145836
CREATED:20250310T234811Z
LAST-MODIFIED:20250310T234811Z
UID:8343-1741737600-1741823999@toyama-senkakuren.or.jp
SUMMARY:富山OAスクール
DESCRIPTION:総合ビジネス本科の学校見学会と個別相談会です。カリキュラムや学費、就職などについて相談できます。お申込みはこちら
URL:https://toyama-senkakuren.or.jp/events/%e5%af%8c%e5%b1%b1oa%e3%82%b9%e3%82%af%e3%83%bc%e3%83%ab-11/
CATEGORIES:オープンキャンパス
END:VEVENT
BEGIN:VEVENT
DTSTART;VALUE=DATE:20250315
DTEND;VALUE=DATE:20250316
DTSTAMP:20260422T145836
CREATED:20250219T042052Z
LAST-MODIFIED:20250219T042052Z
UID:8323-1741996800-1742083199@toyama-senkakuren.or.jp
SUMMARY:臼井美容専門学校
DESCRIPTION:学科内容・資格取得・就職状況・選考方法・学校行事などの紹介や、質問にもお答えします。\nまた、校舎内の見学や様々な体験もできます。お申し込みは こちら
URL:https://toyama-senkakuren.or.jp/events/%e8%87%bc%e4%ba%95%e7%be%8e%e5%ae%b9%e5%b0%82%e9%96%80%e5%ad%a6%e6%a0%a1-28/
CATEGORIES:オープンキャンパス
END:VEVENT
BEGIN:VEVENT
DTSTART;VALUE=DATE:20250315
DTEND;VALUE=DATE:20250316
DTSTAMP:20260422T145836
CREATED:20250219T042259Z
LAST-MODIFIED:20250219T042259Z
UID:8327-1741996800-1742083199@toyama-senkakuren.or.jp
SUMMARY:北陸ビジネス福祉専門学校
DESCRIPTION:学科内容・資格取得・就職状況・選考方法・学校行事などの紹介や、質問にもお答えします。 \nまた、校舎内の見学もいたします！お申し込みは こちら 
URL:https://toyama-senkakuren.or.jp/events/%e5%8c%97%e9%99%b8%e3%83%93%e3%82%b8%e3%83%8d%e3%82%b9%e7%a6%8f%e7%a5%89%e5%b0%82%e9%96%80%e5%ad%a6%e6%a0%a1-29/
CATEGORIES:オープンキャンパス
END:VEVENT
BEGIN:VEVENT
DTSTART;VALUE=DATE:20250315
DTEND;VALUE=DATE:20250316
DTSTAMP:20260422T145836
CREATED:20250219T042842Z
LAST-MODIFIED:20250219T042842Z
UID:8335-1741996800-1742083199@toyama-senkakuren.or.jp
SUMMARY:富山大原簿記公務員医療専門学校
DESCRIPTION:興味のあるコースの体験ができます。授業内容や資格取得、学校行事など先生から直接説明が聞けます。 \n体験コース：情報IT系、ホテル系、ブライダル系、マンガ・イラスト系、クリエイター系　　お申し込みは、こちら \n  \n 
URL:https://toyama-senkakuren.or.jp/events/%e5%af%8c%e5%b1%b1%e5%a4%a7%e5%8e%9f%e7%b0%bf%e8%a8%98%e5%85%ac%e5%8b%99%e5%93%a1%e5%8c%bb%e7%99%82%e5%b0%82%e9%96%80%e5%ad%a6%e6%a0%a1-45/
CATEGORIES:オープンキャンパス
END:VEVENT
BEGIN:VEVENT
DTSTART;VALUE=DATE:20250315
DTEND;VALUE=DATE:20250316
DTSTAMP:20260422T145836
CREATED:20250214T051536Z
LAST-MODIFIED:20250214T051536Z
UID:8304-1741996800-1742083199@toyama-senkakuren.or.jp
SUMMARY:富山調理製菓専門学校
DESCRIPTION:プロから学ぶ実習体験の他、学科・入試説明もあります。\n事前予約が必要です。お申込みは、こちら \n 
URL:https://toyama-senkakuren.or.jp/events/%e5%af%8c%e5%b1%b1%e8%aa%bf%e7%90%86%e8%a3%bd%e8%8f%93%e5%b0%82%e9%96%80%e5%ad%a6%e6%a0%a1-29/
CATEGORIES:オープンキャンパス
END:VEVENT
BEGIN:VEVENT
DTSTART;VALUE=DATE:20250315
DTEND;VALUE=DATE:20250316
DTSTAMP:20260422T145836
CREATED:20250310T234902Z
LAST-MODIFIED:20250310T234902Z
UID:8345-1741996800-1742083199@toyama-senkakuren.or.jp
SUMMARY:富山OAスクール
DESCRIPTION:総合ビジネス本科の学校見学会と個別相談会です。カリキュラムや学費、就職などについて相談できます。お申込みはこちら
URL:https://toyama-senkakuren.or.jp/events/%e5%af%8c%e5%b1%b1oa%e3%82%b9%e3%82%af%e3%83%bc%e3%83%ab-12/
CATEGORIES:オープンキャンパス
END:VEVENT
BEGIN:VEVENT
DTSTART;VALUE=DATE:20250316
DTEND;VALUE=DATE:20250317
DTSTAMP:20260422T145836
CREATED:20250219T041828Z
LAST-MODIFIED:20250219T041828Z
UID:8317-1742083200-1742169599@toyama-senkakuren.or.jp
SUMMARY:専門学校富山ビューティーカレッジ
DESCRIPTION:美容に関する情報を得たり、授業や美容の世界を体験できます。\n受付から実習まで在校生が案内するため、その場ですぐに質問することができます。お申し込みは こちら
URL:https://toyama-senkakuren.or.jp/events/%e5%b0%82%e9%96%80%e5%ad%a6%e6%a0%a1%e5%af%8c%e5%b1%b1%e3%83%93%e3%83%a5%e3%83%bc%e3%83%86%e3%82%a3%e3%83%bc%e3%82%ab%e3%83%ac%e3%83%83%e3%82%b8-44/
CATEGORIES:オープンキャンパス
END:VEVENT
BEGIN:VEVENT
DTSTART;VALUE=DATE:20250319
DTEND;VALUE=DATE:20250320
DTSTAMP:20260422T145836
CREATED:20250310T235531Z
LAST-MODIFIED:20250310T235531Z
UID:8347-1742342400-1742428799@toyama-senkakuren.or.jp
SUMMARY:富山OAスクール
DESCRIPTION:総合ビジネス本科の学校見学会と個別相談会です。カリキュラムや学費、就職などについて相談できます。お申込みはこちら
URL:https://toyama-senkakuren.or.jp/events/%e5%af%8c%e5%b1%b1oa%e3%82%b9%e3%82%af%e3%83%bc%e3%83%ab-13/
CATEGORIES:オープンキャンパス
END:VEVENT
BEGIN:VEVENT
DTSTART;VALUE=DATE:20250322
DTEND;VALUE=DATE:20250323
DTSTAMP:20260422T145836
CREATED:20250219T041157Z
LAST-MODIFIED:20250219T041157Z
UID:8313-1742601600-1742687999@toyama-senkakuren.or.jp
SUMMARY:富山情報ビジネス専門学校
DESCRIPTION:入試や学校についてから、専攻、就職のことまで、資料やHPを見るだけでは伝わらない生の情報を聞いて、将来の自分をイメージしてください。 \nお申込みは こちら
URL:https://toyama-senkakuren.or.jp/events/%e5%af%8c%e5%b1%b1%e6%83%85%e5%a0%b1%e3%83%93%e3%82%b8%e3%83%8d%e3%82%b9%e5%b0%82%e9%96%80%e5%ad%a6%e6%a0%a1-37/
CATEGORIES:オープンキャンパス
END:VEVENT
BEGIN:VEVENT
DTSTART;VALUE=DATE:20250322
DTEND;VALUE=DATE:20250323
DTSTAMP:20260422T145836
CREATED:20250310T235703Z
LAST-MODIFIED:20250310T235703Z
UID:8349-1742601600-1742687999@toyama-senkakuren.or.jp
SUMMARY:富山OAスクール
DESCRIPTION:総合ビジネス本科の学校見学会と個別相談会です。カリキュラムや学費、就職などについて相談できます。お申込みはこちら
URL:https://toyama-senkakuren.or.jp/events/%e5%af%8c%e5%b1%b1oa%e3%82%b9%e3%82%af%e3%83%bc%e3%83%ab-14/
CATEGORIES:オープンキャンパス
END:VEVENT
BEGIN:VEVENT
DTSTART;VALUE=DATE:20250326
DTEND;VALUE=DATE:20250327
DTSTAMP:20260422T145836
CREATED:20250214T045705Z
LAST-MODIFIED:20250214T045705Z
UID:8300-1742947200-1743033599@toyama-senkakuren.or.jp
SUMMARY:富山リハビリテーション医療福祉大学校
DESCRIPTION:　学科紹介・入試説明はもちろん、個別相談も受け付けています。お申し込みは、こちら
URL:https://toyama-senkakuren.or.jp/events/%e5%af%8c%e5%b1%b1%e3%83%aa%e3%83%8f%e3%83%93%e3%83%aa%e3%83%86%e3%83%bc%e3%82%b7%e3%83%a7%e3%83%b3%e5%8c%bb%e7%99%82%e7%a6%8f%e7%a5%89%e5%a4%a7%e5%ad%a6%e6%a0%a1-18/
CATEGORIES:オープンキャンパス
END:VEVENT
BEGIN:VEVENT
DTSTART;VALUE=DATE:20250326
DTEND;VALUE=DATE:20250327
DTSTAMP:20260422T145836
CREATED:20250219T042134Z
LAST-MODIFIED:20250219T042134Z
UID:8325-1742947200-1743033599@toyama-senkakuren.or.jp
SUMMARY:臼井美容専門学校
DESCRIPTION:学科内容・資格取得・就職状況・選考方法・学校行事などの紹介や、質問にもお答えします。\nまた、校舎内の見学や様々な体験もできます。お申し込みは こちら
URL:https://toyama-senkakuren.or.jp/events/%e8%87%bc%e4%ba%95%e7%be%8e%e5%ae%b9%e5%b0%82%e9%96%80%e5%ad%a6%e6%a0%a1-29/
CATEGORIES:オープンキャンパス
END:VEVENT
BEGIN:VEVENT
DTSTART;VALUE=DATE:20250326
DTEND;VALUE=DATE:20250327
DTSTAMP:20260422T145836
CREATED:20250219T042337Z
LAST-MODIFIED:20250219T042337Z
UID:8329-1742947200-1743033599@toyama-senkakuren.or.jp
SUMMARY:北陸ビジネス福祉専門学校
DESCRIPTION:学科内容・資格取得・就職状況・選考方法・学校行事などの紹介や、質問にもお答えします。 \nまた、校舎内の見学もいたします！お申し込みは こちら 
URL:https://toyama-senkakuren.or.jp/events/%e5%8c%97%e9%99%b8%e3%83%93%e3%82%b8%e3%83%8d%e3%82%b9%e7%a6%8f%e7%a5%89%e5%b0%82%e9%96%80%e5%ad%a6%e6%a0%a1-30/
CATEGORIES:オープンキャンパス
END:VEVENT
BEGIN:VEVENT
DTSTART;VALUE=DATE:20250326
DTEND;VALUE=DATE:20250327
DTSTAMP:20260422T145836
CREATED:20250219T043243Z
LAST-MODIFIED:20250219T043301Z
UID:8339-1742947200-1743033599@toyama-senkakuren.or.jp
SUMMARY:富山大原簿記公務員医療専門学校
DESCRIPTION:春休みの特別プログラムで開催されます。 \n公務員系、ビジネスライセンス系、医療事務系、情報IT系、ホテル系、ブライダル系、マンガ・イラスト系、クリエイター系 \nお申し込みは、こちら \n  \n 
URL:https://toyama-senkakuren.or.jp/events/%e5%af%8c%e5%b1%b1%e5%a4%a7%e5%8e%9f%e7%b0%bf%e8%a8%98%e5%85%ac%e5%8b%99%e5%93%a1%e5%8c%bb%e7%99%82%e5%b0%82%e9%96%80%e5%ad%a6%e6%a0%a1-47/
CATEGORIES:オープンキャンパス
END:VEVENT
BEGIN:VEVENT
DTSTART;VALUE=DATE:20250326
DTEND;VALUE=DATE:20250327
DTSTAMP:20260422T145836
CREATED:20250214T050053Z
LAST-MODIFIED:20250214T050053Z
UID:8302-1742947200-1743033599@toyama-senkakuren.or.jp
SUMMARY:富山調理製菓専門学校
DESCRIPTION:プロから学ぶ実習体験の他、学科・入試説明もあります。\n事前予約が必要です。お申込みは、こちら \n 
URL:https://toyama-senkakuren.or.jp/events/%e5%af%8c%e5%b1%b1%e8%aa%bf%e7%90%86%e8%a3%bd%e8%8f%93%e5%b0%82%e9%96%80%e5%ad%a6%e6%a0%a1-28/
CATEGORIES:オープンキャンパス
END:VEVENT
BEGIN:VEVENT
DTSTART;VALUE=DATE:20250326
DTEND;VALUE=DATE:20250327
DTSTAMP:20260422T145836
CREATED:20250219T041108Z
LAST-MODIFIED:20250219T041108Z
UID:8311-1742947200-1743033599@toyama-senkakuren.or.jp
SUMMARY:富山県理容美容専門学校
DESCRIPTION:カットやヘアアレンジ、ネイル、エステなど色々な技術を体験できるほか、教員によるデモンストレーションもあります。お申し込みは、こちら
URL:https://toyama-senkakuren.or.jp/events/%e5%af%8c%e5%b1%b1%e7%9c%8c%e7%90%86%e5%ae%b9%e7%be%8e%e5%ae%b9%e5%b0%82%e9%96%80%e5%ad%a6%e6%a0%a1-48/
CATEGORIES:オープンキャンパス
END:VEVENT
BEGIN:VEVENT
DTSTART;VALUE=DATE:20250326
DTEND;VALUE=DATE:20250327
DTSTAMP:20260422T145836
CREATED:20250310T235915Z
LAST-MODIFIED:20250310T235915Z
UID:8351-1742947200-1743033599@toyama-senkakuren.or.jp
SUMMARY:富山OAスクール
DESCRIPTION:総合ビジネス本科の学校見学会と個別相談会です。カリキュラムや学費、就職などについて相談できます。お申込みはこちら
URL:https://toyama-senkakuren.or.jp/events/%e5%af%8c%e5%b1%b1oa%e3%82%b9%e3%82%af%e3%83%bc%e3%83%ab-15/
CATEGORIES:オープンキャンパス
END:VEVENT
BEGIN:VEVENT
DTSTART;VALUE=DATE:20250327
DTEND;VALUE=DATE:20250328
DTSTAMP:20260422T145836
CREATED:20250219T041915Z
LAST-MODIFIED:20250219T041915Z
UID:8321-1743033600-1743119999@toyama-senkakuren.or.jp
SUMMARY:専門学校富山ビューティーカレッジ
DESCRIPTION:美容に関する情報を得たり、授業や美容の世界を体験できます。\n受付から実習まで在校生が案内するため、その場ですぐに質問することができます。お申し込みは こちら
URL:https://toyama-senkakuren.or.jp/events/%e5%b0%82%e9%96%80%e5%ad%a6%e6%a0%a1%e5%af%8c%e5%b1%b1%e3%83%93%e3%83%a5%e3%83%bc%e3%83%86%e3%82%a3%e3%83%bc%e3%82%ab%e3%83%ac%e3%83%83%e3%82%b8-45/
CATEGORIES:オープンキャンパス
END:VEVENT
BEGIN:VEVENT
DTSTART;VALUE=DATE:20250329
DTEND;VALUE=DATE:20250330
DTSTAMP:20260422T145836
CREATED:20250310T235945Z
LAST-MODIFIED:20250310T235945Z
UID:8353-1743206400-1743292799@toyama-senkakuren.or.jp
SUMMARY:富山OAスクール
DESCRIPTION:総合ビジネス本科の学校見学会と個別相談会です。カリキュラムや学費、就職などについて相談できます。お申込みはこちら
URL:https://toyama-senkakuren.or.jp/events/%e5%af%8c%e5%b1%b1oa%e3%82%b9%e3%82%af%e3%83%bc%e3%83%ab-16/
CATEGORIES:オープンキャンパス
END:VEVENT
END:VCALENDAR