BEGIN:VCALENDAR
VERSION:2.0
PRODID:-//富山県専修学校各種学校連合会｜専修（専門）学校・各種学校紹介 - ECPv5.14.1//NONSGML v1.0//EN
CALSCALE:GREGORIAN
METHOD:PUBLISH
X-WR-CALNAME:富山県専修学校各種学校連合会｜専修（専門）学校・各種学校紹介
X-ORIGINAL-URL:https://toyama-senkakuren.or.jp
X-WR-CALDESC:Events for 富山県専修学校各種学校連合会｜専修（専門）学校・各種学校紹介
REFRESH-INTERVAL;VALUE=DURATION:PT1H
X-Robots-Tag:noindex
X-PUBLISHED-TTL:PT1H
BEGIN:VTIMEZONE
TZID:Asia/Tokyo
BEGIN:STANDARD
TZOFFSETFROM:+0900
TZOFFSETTO:+0900
TZNAME:JST
DTSTART:20240101T000000
END:STANDARD
END:VTIMEZONE
BEGIN:VEVENT
DTSTART;VALUE=DATE:20240706
DTEND;VALUE=DATE:20240707
DTSTAMP:20260423T041221
CREATED:20240614T003800Z
LAST-MODIFIED:20240614T003800Z
UID:6114-1720224000-1720310399@toyama-senkakuren.or.jp
SUMMARY:臼井美容専門学校
DESCRIPTION:学科内容・資格取得・就職状況・選考方法・学校行事などの紹介や、質問にもお答えします。\nまた、校舎内の見学や様々な体験もできます。お申し込みは こちら
URL:https://toyama-senkakuren.or.jp/events/%e8%87%bc%e4%ba%95%e7%be%8e%e5%ae%b9%e5%b0%82%e9%96%80%e5%ad%a6%e6%a0%a1-20/
CATEGORIES:オープンキャンパス
END:VEVENT
BEGIN:VEVENT
DTSTART;VALUE=DATE:20240706
DTEND;VALUE=DATE:20240707
DTSTAMP:20260423T041221
CREATED:20240614T004138Z
LAST-MODIFIED:20240614T004138Z
UID:6120-1720224000-1720310399@toyama-senkakuren.or.jp
SUMMARY:北陸ビジネス福祉専門学校
DESCRIPTION:学科内容・資格取得・就職状況・選考方法・学校行事などの紹介や、質問にもお答えします。 \nまた、校舎内の見学もいたします！お申し込みは こちら 
URL:https://toyama-senkakuren.or.jp/events/%e5%8c%97%e9%99%b8%e3%83%93%e3%82%b8%e3%83%8d%e3%82%b9%e7%a6%8f%e7%a5%89%e5%b0%82%e9%96%80%e5%ad%a6%e6%a0%a1-21/
CATEGORIES:オープンキャンパス
END:VEVENT
BEGIN:VEVENT
DTSTART;VALUE=DATE:20240706
DTEND;VALUE=DATE:20240707
DTSTAMP:20260423T041221
CREATED:20240614T020743Z
LAST-MODIFIED:20240614T020743Z
UID:6147-1720224000-1720310399@toyama-senkakuren.or.jp
SUMMARY:富山大原簿記公務員医療専門学校
DESCRIPTION:興味のあるコースの体験ができます。授業内容や資格取得、学校行事など先生から直接説明が聞けます。 \n体験コース：公務員系、ビジネスライセンス系、医療事務系　　お申し込みは、こちら \n  \n 
URL:https://toyama-senkakuren.or.jp/events/%e5%af%8c%e5%b1%b1%e5%a4%a7%e5%8e%9f%e7%b0%bf%e8%a8%98%e5%85%ac%e5%8b%99%e5%93%a1%e5%8c%bb%e7%99%82%e5%b0%82%e9%96%80%e5%ad%a6%e6%a0%a1-29/
CATEGORIES:オープンキャンパス
END:VEVENT
BEGIN:VEVENT
DTSTART;VALUE=DATE:20240706
DTEND;VALUE=DATE:20240707
DTSTAMP:20260423T041221
CREATED:20240614T002719Z
LAST-MODIFIED:20240614T002719Z
UID:6099-1720224000-1720310399@toyama-senkakuren.or.jp
SUMMARY:総合カレッジSEO
DESCRIPTION:調理実習と学校説明・個別相談があります。お申し込みは、こちら
URL:https://toyama-senkakuren.or.jp/events/%e7%b7%8f%e5%90%88%e3%82%ab%e3%83%ac%e3%83%83%e3%82%b8seo-5/
CATEGORIES:オープンキャンパス
END:VEVENT
BEGIN:VEVENT
DTSTART;VALUE=DATE:20240706
DTEND;VALUE=DATE:20240707
DTSTAMP:20260423T041221
CREATED:20240703T014053Z
LAST-MODIFIED:20240703T014053Z
UID:7728-1720224000-1720310399@toyama-senkakuren.or.jp
SUMMARY:富山OAスクール
DESCRIPTION:総合ビジネス本科の学校見学会と個別相談会です。カリキュラムや学費、就職などについて相談できます。お申込みはこちら
URL:https://toyama-senkakuren.or.jp/events/%e5%af%8c%e5%b1%b1oa%e3%82%b9%e3%82%af%e3%83%bc%e3%83%ab-4/
CATEGORIES:オープンキャンパス
END:VEVENT
BEGIN:VEVENT
DTSTART;VALUE=DATE:20240707
DTEND;VALUE=DATE:20240708
DTSTAMP:20260423T041221
CREATED:20240614T003249Z
LAST-MODIFIED:20240614T003249Z
UID:6107-1720310400-1720396799@toyama-senkakuren.or.jp
SUMMARY:富山県理容美容専門学校
DESCRIPTION:カットやヘアアレンジ、ネイル、エステなど色々な技術を体験できるほか、教員によるデモンストレーションもあります。お申し込みは、こちら
URL:https://toyama-senkakuren.or.jp/events/%e5%af%8c%e5%b1%b1%e7%9c%8c%e7%90%86%e5%ae%b9%e7%be%8e%e5%ae%b9%e5%b0%82%e9%96%80%e5%ad%a6%e6%a0%a1-37/
CATEGORIES:オープンキャンパス
END:VEVENT
BEGIN:VEVENT
DTSTART;VALUE=DATE:20240713
DTEND;VALUE=DATE:20240714
DTSTAMP:20260423T041221
CREATED:20240614T002129Z
LAST-MODIFIED:20240614T002129Z
UID:6091-1720828800-1720915199@toyama-senkakuren.or.jp
SUMMARY:富山リハビリテーション医療福祉大学校
DESCRIPTION:　学科紹介・入試説明はもちろん、個別相談も受け付けています。お申し込みは、こちら
URL:https://toyama-senkakuren.or.jp/events/%e5%af%8c%e5%b1%b1%e3%83%aa%e3%83%8f%e3%83%93%e3%83%aa%e3%83%86%e3%83%bc%e3%82%b7%e3%83%a7%e3%83%b3%e5%8c%bb%e7%99%82%e7%a6%8f%e7%a5%89%e5%a4%a7%e5%ad%a6%e6%a0%a1-10/
CATEGORIES:オープンキャンパス
END:VEVENT
BEGIN:VEVENT
DTSTART;VALUE=DATE:20240713
DTEND;VALUE=DATE:20240714
DTSTAMP:20260423T041221
CREATED:20240614T002900Z
LAST-MODIFIED:20240614T002900Z
UID:6102-1720828800-1720915199@toyama-senkakuren.or.jp
SUMMARY:専門学校富山ビューティーカレッジ
DESCRIPTION:美容に関する情報を得たり、授業や美容の世界を体験できます。\n受付から実習まで在校生が案内するため、その場ですぐに質問することができます。お申し込みは こちら
URL:https://toyama-senkakuren.or.jp/events/%e5%b0%82%e9%96%80%e5%ad%a6%e6%a0%a1%e5%af%8c%e5%b1%b1%e3%83%93%e3%83%a5%e3%83%bc%e3%83%86%e3%82%a3%e3%83%bc%e3%82%ab%e3%83%ac%e3%83%83%e3%82%b8-33/
CATEGORIES:オープンキャンパス
END:VEVENT
BEGIN:VEVENT
DTSTART;VALUE=DATE:20240713
DTEND;VALUE=DATE:20240714
DTSTAMP:20260423T041221
CREATED:20240614T015640Z
LAST-MODIFIED:20240614T015640Z
UID:6139-1720828800-1720915199@toyama-senkakuren.or.jp
SUMMARY:富山大原簿記公務員医療専門学校
DESCRIPTION:興味のあるコースの体験ができます。授業内容や資格取得、学校行事など先生から直接説明が聞けます。 \n体験コース：情報IT系、ホテル系、ブライダル系、マンガ・イラスト系、クリエイター系　　お申し込みは、こちら \n  \n 
URL:https://toyama-senkakuren.or.jp/events/%e5%af%8c%e5%b1%b1%e5%a4%a7%e5%8e%9f%e7%b0%bf%e8%a8%98%e5%85%ac%e5%8b%99%e5%93%a1%e5%8c%bb%e7%99%82%e5%b0%82%e9%96%80%e5%ad%a6%e6%a0%a1-26/
CATEGORIES:オープンキャンパス
END:VEVENT
BEGIN:VEVENT
DTSTART;VALUE=DATE:20240713
DTEND;VALUE=DATE:20240714
DTSTAMP:20260423T041221
CREATED:20240614T014940Z
LAST-MODIFIED:20240614T014940Z
UID:6134-1720828800-1720915199@toyama-senkakuren.or.jp
SUMMARY:富山情報ビジネス専門学校
DESCRIPTION:入試や学校についてから、専攻、就職のことまで、資料やHPを見るだけでは伝わらない生の情報を聞いて、将来の自分をイメージしてください。 \nお申込みは こちら
URL:https://toyama-senkakuren.or.jp/events/%e5%af%8c%e5%b1%b1%e6%83%85%e5%a0%b1%e3%83%93%e3%82%b8%e3%83%8d%e3%82%b9%e5%b0%82%e9%96%80%e5%ad%a6%e6%a0%a1-27/
CATEGORIES:オープンキャンパス
END:VEVENT
BEGIN:VEVENT
DTSTART;VALUE=DATE:20240713
DTEND;VALUE=DATE:20240714
DTSTAMP:20260423T041221
CREATED:20240614T002359Z
LAST-MODIFIED:20240614T002359Z
UID:6095-1720828800-1720915199@toyama-senkakuren.or.jp
SUMMARY:富山調理製菓専門学校
DESCRIPTION:プロから学ぶ実習体験の他、学科・入試説明もあります。\n事前予約が必要です。お申込みは、こちら \n 
URL:https://toyama-senkakuren.or.jp/events/%e5%af%8c%e5%b1%b1%e8%aa%bf%e7%90%86%e8%a3%bd%e8%8f%93%e5%b0%82%e9%96%80%e5%ad%a6%e6%a0%a1-21/
CATEGORIES:オープンキャンパス
END:VEVENT
BEGIN:VEVENT
DTSTART;VALUE=DATE:20240720
DTEND;VALUE=DATE:20240721
DTSTAMP:20260423T041221
CREATED:20240614T003853Z
LAST-MODIFIED:20240614T003853Z
UID:6116-1721433600-1721519999@toyama-senkakuren.or.jp
SUMMARY:臼井美容専門学校
DESCRIPTION:学科内容・資格取得・就職状況・選考方法・学校行事などの紹介や、質問にもお答えします。\nまた、校舎内の見学や様々な体験もできます。お申し込みは こちら
URL:https://toyama-senkakuren.or.jp/events/%e8%87%bc%e4%ba%95%e7%be%8e%e5%ae%b9%e5%b0%82%e9%96%80%e5%ad%a6%e6%a0%a1-21/
CATEGORIES:オープンキャンパス
END:VEVENT
BEGIN:VEVENT
DTSTART;VALUE=DATE:20240720
DTEND;VALUE=DATE:20240721
DTSTAMP:20260423T041221
CREATED:20240614T004233Z
LAST-MODIFIED:20240614T004233Z
UID:6123-1721433600-1721519999@toyama-senkakuren.or.jp
SUMMARY:北陸ビジネス福祉専門学校
DESCRIPTION:学科内容・資格取得・就職状況・選考方法・学校行事などの紹介や、質問にもお答えします。 \nまた、校舎内の見学もいたします！お申し込みは こちら 
URL:https://toyama-senkakuren.or.jp/events/%e5%8c%97%e9%99%b8%e3%83%93%e3%82%b8%e3%83%8d%e3%82%b9%e7%a6%8f%e7%a5%89%e5%b0%82%e9%96%80%e5%ad%a6%e6%a0%a1-22/
CATEGORIES:オープンキャンパス
END:VEVENT
BEGIN:VEVENT
DTSTART;VALUE=DATE:20240721
DTEND;VALUE=DATE:20240722
DTSTAMP:20260423T041221
CREATED:20240614T003420Z
LAST-MODIFIED:20240614T003444Z
UID:6110-1721520000-1721606399@toyama-senkakuren.or.jp
SUMMARY:富山県理容美容専門学校
DESCRIPTION:カットやヘアアレンジ、ネイル、エステなど色々な技術を体験できるほか、教員によるデモンストレーションもあります。お申し込みは、こちら
URL:https://toyama-senkakuren.or.jp/events/%e5%af%8c%e5%b1%b1%e7%9c%8c%e7%90%86%e5%ae%b9%e7%be%8e%e5%ae%b9%e5%b0%82%e9%96%80%e5%ad%a6%e6%a0%a1-38/
CATEGORIES:オープンキャンパス
END:VEVENT
BEGIN:VEVENT
DTSTART;VALUE=DATE:20240723
DTEND;VALUE=DATE:20240724
DTSTAMP:20260423T041221
CREATED:20240703T015555Z
LAST-MODIFIED:20240703T015555Z
UID:2724-1721692800-1721779199@toyama-senkakuren.or.jp
SUMMARY:高岡第一学園幼稚園教諭・保育士養成所
DESCRIPTION:高校生のための幼児教育体験講座。 \n午前中は幼稚園で子どもたちと遊び、午後からは幼児教育について学習します。幼児との触れ合いを通して職業選択について考えることができます。
URL:https://toyama-senkakuren.or.jp/events/%e9%ab%98%e5%b2%a1%e7%ac%ac%e4%b8%80%e5%ad%a6%e5%9c%92%e5%b9%bc%e7%a8%9a%e5%9c%92%e6%95%99%e8%ab%ad%e3%83%bb%e4%bf%9d%e8%82%b2%e5%a3%ab%e9%a4%8a%e6%88%90%e6%89%80-5/
CATEGORIES:オープンキャンパス
END:VEVENT
BEGIN:VEVENT
DTSTART;VALUE=DATE:20240727
DTEND;VALUE=DATE:20240728
DTSTAMP:20260423T041221
CREATED:20240614T002221Z
LAST-MODIFIED:20240614T002221Z
UID:6093-1722038400-1722124799@toyama-senkakuren.or.jp
SUMMARY:富山リハビリテーション医療福祉大学校
DESCRIPTION:　学科紹介・入試説明はもちろん、個別相談も受け付けています。お申し込みは、こちら
URL:https://toyama-senkakuren.or.jp/events/%e5%af%8c%e5%b1%b1%e3%83%aa%e3%83%8f%e3%83%93%e3%83%aa%e3%83%86%e3%83%bc%e3%82%b7%e3%83%a7%e3%83%b3%e5%8c%bb%e7%99%82%e7%a6%8f%e7%a5%89%e5%a4%a7%e5%ad%a6%e6%a0%a1-11/
CATEGORIES:オープンキャンパス
END:VEVENT
BEGIN:VEVENT
DTSTART;VALUE=DATE:20240727
DTEND;VALUE=DATE:20240728
DTSTAMP:20260423T041221
CREATED:20240614T002951Z
LAST-MODIFIED:20240614T002951Z
UID:6105-1722038400-1722124799@toyama-senkakuren.or.jp
SUMMARY:専門学校富山ビューティーカレッジ
DESCRIPTION:美容に関する情報を得たり、授業や美容の世界を体験できます。\n受付から実習まで在校生が案内するため、その場ですぐに質問することができます。お申し込みは こちら
URL:https://toyama-senkakuren.or.jp/events/%e5%b0%82%e9%96%80%e5%ad%a6%e6%a0%a1%e5%af%8c%e5%b1%b1%e3%83%93%e3%83%a5%e3%83%bc%e3%83%86%e3%82%a3%e3%83%bc%e3%82%ab%e3%83%ac%e3%83%83%e3%82%b8-34/
CATEGORIES:オープンキャンパス
END:VEVENT
BEGIN:VEVENT
DTSTART;VALUE=DATE:20240727
DTEND;VALUE=DATE:20240728
DTSTAMP:20260423T041221
CREATED:20240614T015112Z
LAST-MODIFIED:20240614T015112Z
UID:6137-1722038400-1722124799@toyama-senkakuren.or.jp
SUMMARY:富山情報ビジネス専門学校
DESCRIPTION:入試や学校についてから、専攻、就職のことまで、資料やHPを見るだけでは伝わらない生の情報を聞いて、将来の自分をイメージしてください。 \nお申込みは こちら
URL:https://toyama-senkakuren.or.jp/events/%e5%af%8c%e5%b1%b1%e6%83%85%e5%a0%b1%e3%83%93%e3%82%b8%e3%83%8d%e3%82%b9%e5%b0%82%e9%96%80%e5%ad%a6%e6%a0%a1-28/
CATEGORIES:オープンキャンパス
END:VEVENT
BEGIN:VEVENT
DTSTART;VALUE=DATE:20240727
DTEND;VALUE=DATE:20240728
DTSTAMP:20260423T041221
CREATED:20240614T002458Z
LAST-MODIFIED:20240614T002458Z
UID:6097-1722038400-1722124799@toyama-senkakuren.or.jp
SUMMARY:富山調理製菓専門学校
DESCRIPTION:プロから学ぶ実習体験の他、学科・入試説明もあります。\n事前予約が必要です。お申込みは、こちら \n 
URL:https://toyama-senkakuren.or.jp/events/%e5%af%8c%e5%b1%b1%e8%aa%bf%e7%90%86%e8%a3%bd%e8%8f%93%e5%b0%82%e9%96%80%e5%ad%a6%e6%a0%a1-22/
CATEGORIES:オープンキャンパス
END:VEVENT
BEGIN:VEVENT
DTSTART;VALUE=DATE:20240727
DTEND;VALUE=DATE:20240728
DTSTAMP:20260423T041221
CREATED:20240614T003541Z
LAST-MODIFIED:20240614T003541Z
UID:6112-1722038400-1722124799@toyama-senkakuren.or.jp
SUMMARY:富山県理容美容専門学校
DESCRIPTION:カットやヘアアレンジ、ネイル、エステなど色々な技術を体験できるほか、教員によるデモンストレーションもあります。お申し込みは、こちら
URL:https://toyama-senkakuren.or.jp/events/%e5%af%8c%e5%b1%b1%e7%9c%8c%e7%90%86%e5%ae%b9%e7%be%8e%e5%ae%b9%e5%b0%82%e9%96%80%e5%ad%a6%e6%a0%a1-39/
CATEGORIES:オープンキャンパス
END:VEVENT
BEGIN:VEVENT
DTSTART;VALUE=DATE:20240729
DTEND;VALUE=DATE:20240730
DTSTAMP:20260423T041221
CREATED:20240614T003954Z
LAST-MODIFIED:20240614T003954Z
UID:6118-1722211200-1722297599@toyama-senkakuren.or.jp
SUMMARY:臼井美容専門学校
DESCRIPTION:学科内容・資格取得・就職状況・選考方法・学校行事などの紹介や、質問にもお答えします。\nまた、校舎内の見学や様々な体験もできます。お申し込みは こちら
URL:https://toyama-senkakuren.or.jp/events/%e8%87%bc%e4%ba%95%e7%be%8e%e5%ae%b9%e5%b0%82%e9%96%80%e5%ad%a6%e6%a0%a1-22/
CATEGORIES:オープンキャンパス
END:VEVENT
BEGIN:VEVENT
DTSTART;VALUE=DATE:20240731
DTEND;VALUE=DATE:20240801
DTSTAMP:20260423T041221
CREATED:20240614T004336Z
LAST-MODIFIED:20240614T004336Z
UID:6125-1722384000-1722470399@toyama-senkakuren.or.jp
SUMMARY:北陸ビジネス福祉専門学校
DESCRIPTION:学科内容・資格取得・就職状況・選考方法・学校行事などの紹介や、質問にもお答えします。 \nまた、校舎内の見学もいたします！お申し込みは こちら 
URL:https://toyama-senkakuren.or.jp/events/%e5%8c%97%e9%99%b8%e3%83%93%e3%82%b8%e3%83%8d%e3%82%b9%e7%a6%8f%e7%a5%89%e5%b0%82%e9%96%80%e5%ad%a6%e6%a0%a1-23/
CATEGORIES:オープンキャンパス
END:VEVENT
BEGIN:VEVENT
DTSTART;VALUE=DATE:20240731
DTEND;VALUE=DATE:20240801
DTSTAMP:20260423T041221
CREATED:20240614T020240Z
LAST-MODIFIED:20240614T020240Z
UID:6143-1722384000-1722470399@toyama-senkakuren.or.jp
SUMMARY:富山大原簿記公務員医療専門学校
DESCRIPTION:夏休みの特別プログラムで開催されます。 \n公務員系、ビジネスライセンス系、医療事務系、情報IT系、ホテル系、ブライダル系、マンガ・イラスト系、クリエイター系 \nお申し込みは、こちら \n  \n 
URL:https://toyama-senkakuren.or.jp/events/%e5%af%8c%e5%b1%b1%e5%a4%a7%e5%8e%9f%e7%b0%bf%e8%a8%98%e5%85%ac%e5%8b%99%e5%93%a1%e5%8c%bb%e7%99%82%e5%b0%82%e9%96%80%e5%ad%a6%e6%a0%a1-27/
CATEGORIES:オープンキャンパス
END:VEVENT
END:VCALENDAR