BEGIN:VCALENDAR
VERSION:2.0
PRODID:-//富山県専修学校各種学校連合会｜専修（専門）学校・各種学校紹介 - ECPv5.14.1//NONSGML v1.0//EN
CALSCALE:GREGORIAN
METHOD:PUBLISH
X-WR-CALNAME:富山県専修学校各種学校連合会｜専修（専門）学校・各種学校紹介
X-ORIGINAL-URL:https://toyama-senkakuren.or.jp
X-WR-CALDESC:Events for 富山県専修学校各種学校連合会｜専修（専門）学校・各種学校紹介
REFRESH-INTERVAL;VALUE=DURATION:PT1H
X-Robots-Tag:noindex
X-PUBLISHED-TTL:PT1H
BEGIN:VTIMEZONE
TZID:Asia/Tokyo
BEGIN:STANDARD
TZOFFSETFROM:+0900
TZOFFSETTO:+0900
TZNAME:JST
DTSTART:20240101T000000
END:STANDARD
END:VTIMEZONE
BEGIN:VEVENT
DTSTART;VALUE=DATE:20240120
DTEND;VALUE=DATE:20240121
DTSTAMP:20260423T115547
CREATED:20231213T070347Z
LAST-MODIFIED:20231213T070347Z
UID:5737-1705708800-1705795199@toyama-senkakuren.or.jp
SUMMARY:専門学校　職藝学院
DESCRIPTION:学校や学科の説明の他、プロ職人の先生監修のもと、大工仕事や庭師の仕事を体験出来ます。お申込みは こちら
URL:https://toyama-senkakuren.or.jp/events/%e5%b0%82%e9%96%80%e5%ad%a6%e6%a0%a1%e3%80%80%e8%81%b7%e8%97%9d%e5%ad%a6%e9%99%a2-20/
CATEGORIES:オープンキャンパス
END:VEVENT
BEGIN:VEVENT
DTSTART;VALUE=DATE:20240120
DTEND;VALUE=DATE:20240121
DTSTAMP:20260423T115547
CREATED:20231213T065508Z
LAST-MODIFIED:20231213T065508Z
UID:5733-1705708800-1705795199@toyama-senkakuren.or.jp
SUMMARY:富山情報ビジネス専門学校
DESCRIPTION:入試や学校についてから、専攻、就職のことまで、資料やHPを見るだけでは伝わらない生の情報を聞いて、将来の自分をイメージしてください。 \nお申込みは こちら
URL:https://toyama-senkakuren.or.jp/events/%e5%af%8c%e5%b1%b1%e6%83%85%e5%a0%b1%e3%83%93%e3%82%b8%e3%83%8d%e3%82%b9%e5%b0%82%e9%96%80%e5%ad%a6%e6%a0%a1-21/
CATEGORIES:オープンキャンパス
END:VEVENT
BEGIN:VEVENT
DTSTART;VALUE=DATE:20240121
DTEND;VALUE=DATE:20240122
DTSTAMP:20260423T115547
CREATED:20231213T074503Z
LAST-MODIFIED:20231213T074503Z
UID:5744-1705795200-1705881599@toyama-senkakuren.or.jp
SUMMARY:富山大原簿記公務員医療専門学校
DESCRIPTION:興味のあるコースの体験ができます。授業内容や資格取得、学校行事など先生から直接説明が聞けます。 \n体験コース：公務員系、ビジネスライセンス系、医療事務系　　お申し込みは、こちら \n  \n 
URL:https://toyama-senkakuren.or.jp/events/%e5%af%8c%e5%b1%b1%e5%a4%a7%e5%8e%9f%e7%b0%bf%e8%a8%98%e5%85%ac%e5%8b%99%e5%93%a1%e5%8c%bb%e7%99%82%e5%b0%82%e9%96%80%e5%ad%a6%e6%a0%a1-14/
CATEGORIES:オープンキャンパス
END:VEVENT
BEGIN:VEVENT
DTSTART;VALUE=DATE:20240127
DTEND;VALUE=DATE:20240128
DTSTAMP:20260423T115547
CREATED:20231213T075123Z
LAST-MODIFIED:20231213T075123Z
UID:5748-1706313600-1706399999@toyama-senkakuren.or.jp
SUMMARY:富山大原簿記公務員医療専門学校
DESCRIPTION:興味のあるコースの体験ができます。授業内容や資格取得、学校行事など先生から直接説明が聞けます。 \n体験コース：情報IT系、ホテル系、ブライダル系、マンガ・イラスト系、クリエイター系　　お申し込みは、こちら \n  \n 
URL:https://toyama-senkakuren.or.jp/events/%e5%af%8c%e5%b1%b1%e5%a4%a7%e5%8e%9f%e7%b0%bf%e8%a8%98%e5%85%ac%e5%8b%99%e5%93%a1%e5%8c%bb%e7%99%82%e5%b0%82%e9%96%80%e5%ad%a6%e6%a0%a1-16/
CATEGORIES:オープンキャンパス
END:VEVENT
BEGIN:VEVENT
DTSTART;VALUE=DATE:20240127
DTEND;VALUE=DATE:20240128
DTSTAMP:20260423T115547
CREATED:20231213T063704Z
LAST-MODIFIED:20231213T063704Z
UID:5729-1706313600-1706399999@toyama-senkakuren.or.jp
SUMMARY:富山県理容美容専門学校
DESCRIPTION:カットやヘアアレンジ、ネイル、エステなど色々な技術を体験できるほか、教員によるデモンストレーションもあります。お申し込みは、こちら
URL:https://toyama-senkakuren.or.jp/events/%e5%af%8c%e5%b1%b1%e7%9c%8c%e7%90%86%e5%ae%b9%e7%be%8e%e5%ae%b9%e5%b0%82%e9%96%80%e5%ad%a6%e6%a0%a1-30/
CATEGORIES:オープンキャンパス
END:VEVENT
BEGIN:VEVENT
DTSTART;VALUE=DATE:20240128
DTEND;VALUE=DATE:20240129
DTSTAMP:20260423T115547
CREATED:20231213T071833Z
LAST-MODIFIED:20231213T071833Z
UID:5739-1706400000-1706486399@toyama-senkakuren.or.jp
SUMMARY:専門学校富山ビューティーカレッジ
DESCRIPTION:美容に関する情報を得たり、授業や美容の世界を体験できます。\n受付から実習まで在校生が案内するため、その場ですぐに質問することができます。お申し込みは こちら
URL:https://toyama-senkakuren.or.jp/events/%e5%b0%82%e9%96%80%e5%ad%a6%e6%a0%a1%e5%af%8c%e5%b1%b1%e3%83%93%e3%83%a5%e3%83%bc%e3%83%86%e3%82%a3%e3%83%bc%e3%82%ab%e3%83%ac%e3%83%83%e3%82%b8-25/
CATEGORIES:オープンキャンパス
END:VEVENT
END:VCALENDAR