BEGIN:VCALENDAR
VERSION:2.0
PRODID:-//富山県専修学校各種学校連合会｜専修（専門）学校・各種学校紹介 - ECPv5.14.1//NONSGML v1.0//EN
CALSCALE:GREGORIAN
METHOD:PUBLISH
X-WR-CALNAME:富山県専修学校各種学校連合会｜専修（専門）学校・各種学校紹介
X-ORIGINAL-URL:https://toyama-senkakuren.or.jp
X-WR-CALDESC:Events for 富山県専修学校各種学校連合会｜専修（専門）学校・各種学校紹介
REFRESH-INTERVAL;VALUE=DURATION:PT1H
X-Robots-Tag:noindex
X-PUBLISHED-TTL:PT1H
BEGIN:VTIMEZONE
TZID:Asia/Tokyo
BEGIN:STANDARD
TZOFFSETFROM:+0900
TZOFFSETTO:+0900
TZNAME:JST
DTSTART:20220101T000000
END:STANDARD
END:VTIMEZONE
BEGIN:VEVENT
DTSTART;VALUE=DATE:20221105
DTEND;VALUE=DATE:20221106
DTSTAMP:20260424T095436
CREATED:20220905T054724Z
LAST-MODIFIED:20220905T054724Z
UID:2697-1667606400-1667692799@toyama-senkakuren.or.jp
SUMMARY:専門学校　職藝学院
DESCRIPTION:学校や学科の説明の他、プロ職人の先生監修のもと、大工仕事や庭師の仕事を体験出来ます。
URL:https://toyama-senkakuren.or.jp/events/%e5%b0%82%e9%96%80%e5%ad%a6%e6%a0%a1%e3%80%80%e8%81%b7%e8%97%9d%e5%ad%a6%e9%99%a2-10/
CATEGORIES:オープンキャンパス
END:VEVENT
BEGIN:VEVENT
DTSTART;VALUE=DATE:20221119
DTEND;VALUE=DATE:20221120
DTSTAMP:20260424T095436
CREATED:20220905T054836Z
LAST-MODIFIED:20220905T054836Z
UID:2699-1668816000-1668902399@toyama-senkakuren.or.jp
SUMMARY:富山クリエイティブ専門学校
DESCRIPTION:建築・デザイン各学科を象徴する簡単な作品や課題制作が体験できます。卒業生や現役生の作品・課題などの紹介しています。
URL:https://toyama-senkakuren.or.jp/events/%e5%af%8c%e5%b1%b1%e3%82%af%e3%83%aa%e3%82%a8%e3%82%a4%e3%83%86%e3%82%a3%e3%83%96%e5%b0%82%e9%96%80%e5%ad%a6%e6%a0%a1-12/
CATEGORIES:オープンキャンパス
END:VEVENT
BEGIN:VEVENT
DTSTART;VALUE=DATE:20221120
DTEND;VALUE=DATE:20221121
DTSTAMP:20260424T095436
CREATED:20220905T054154Z
LAST-MODIFIED:20220905T054154Z
UID:2692-1668902400-1668988799@toyama-senkakuren.or.jp
SUMMARY:専門学校富山ビューティーカレッジ
DESCRIPTION:カット・ワインディング（パーマ巻）・ネイルなど様々な美容体験ができます。 \n在校生による実技デモンストレーションもあります。
URL:https://toyama-senkakuren.or.jp/events/%e5%b0%82%e9%96%80%e5%ad%a6%e6%a0%a1%e5%af%8c%e5%b1%b1%e3%83%93%e3%83%a5%e3%83%bc%e3%83%86%e3%82%a3%e3%83%bc%e3%82%ab%e3%83%ac%e3%83%83%e3%82%b8-12/
CATEGORIES:オープンキャンパス
END:VEVENT
BEGIN:VEVENT
DTSTART;VALUE=DATE:20221120
DTEND;VALUE=DATE:20221121
DTSTAMP:20260424T095436
CREATED:20220905T054535Z
LAST-MODIFIED:20220905T054535Z
UID:2695-1668902400-1668988799@toyama-senkakuren.or.jp
SUMMARY:富山県理容美容専門学校
DESCRIPTION:人気サロンによる「BEAUTY SHOW」を毎回開催。\nカットやカラー、メイクなどモデル体験ができるほか、シャンプーやエステを実際に体験することもできます。
URL:https://toyama-senkakuren.or.jp/events/%e5%af%8c%e5%b1%b1%e7%9c%8c%e7%90%86%e5%ae%b9%e7%be%8e%e5%ae%b9%e5%b0%82%e9%96%80%e5%ad%a6%e6%a0%a1-14/
CATEGORIES:オープンキャンパス
END:VEVENT
END:VCALENDAR