BEGIN:VCALENDAR
VERSION:2.0
PRODID:-//富山県専修学校各種学校連合会｜専修（専門）学校・各種学校紹介 - ECPv5.14.1//NONSGML v1.0//EN
CALSCALE:GREGORIAN
METHOD:PUBLISH
X-WR-CALNAME:富山県専修学校各種学校連合会｜専修（専門）学校・各種学校紹介
X-ORIGINAL-URL:https://toyama-senkakuren.or.jp
X-WR-CALDESC:Events for 富山県専修学校各種学校連合会｜専修（専門）学校・各種学校紹介
REFRESH-INTERVAL;VALUE=DURATION:PT1H
X-Robots-Tag:noindex
X-PUBLISHED-TTL:PT1H
BEGIN:VTIMEZONE
TZID:Asia/Tokyo
BEGIN:STANDARD
TZOFFSETFROM:+0900
TZOFFSETTO:+0900
TZNAME:JST
DTSTART:20220101T000000
END:STANDARD
END:VTIMEZONE
BEGIN:VEVENT
DTSTART;VALUE=DATE:20220702
DTEND;VALUE=DATE:20220703
DTSTAMP:20260424T154018
CREATED:20220527T061723Z
LAST-MODIFIED:20220527T061723Z
UID:758-1656720000-1656806399@toyama-senkakuren.or.jp
SUMMARY:富山クリエイティブ専門学校
DESCRIPTION:建築・デザイン各学科を象徴する簡単な作品や課題制作が体験できます。卒業生や現役生の作品・課題などの紹介しています。
URL:https://toyama-senkakuren.or.jp/events/%e5%af%8c%e5%b1%b1%e3%82%af%e3%83%aa%e3%82%a8%e3%82%a4%e3%83%86%e3%82%a3%e3%83%96%e5%b0%82%e9%96%80%e5%ad%a6%e6%a0%a1-2/
CATEGORIES:オープンキャンパス
END:VEVENT
BEGIN:VEVENT
DTSTART;VALUE=DATE:20220702
DTEND;VALUE=DATE:20220703
DTSTAMP:20260424T154018
CREATED:20220527T060726Z
LAST-MODIFIED:20220527T060726Z
UID:748-1656720000-1656806399@toyama-senkakuren.or.jp
SUMMARY:富山調理製菓専門学校
DESCRIPTION:プロから学ぶ実習体験の他、学科・入試説明もあります。\n事前予約が必要です。
URL:https://toyama-senkakuren.or.jp/events/%e5%af%8c%e5%b1%b1%e8%aa%bf%e7%90%86%e8%a3%bd%e8%8f%93%e5%b0%82%e9%96%80%e5%ad%a6%e6%a0%a1-4/
CATEGORIES:オープンキャンパス
END:VEVENT
BEGIN:VEVENT
DTSTART;VALUE=DATE:20220709
DTEND;VALUE=DATE:20220710
DTSTAMP:20260424T154018
CREATED:20220624T010653Z
LAST-MODIFIED:20220624T010654Z
UID:1220-1657324800-1657411199@toyama-senkakuren.or.jp
SUMMARY:臼井美容専門学校
DESCRIPTION:学科内容・資格取得・就職状況・選考方法・学校行事などの紹介や、質問にもお答えします。\nまた、校舎内の見学や様々な体験もできます。
URL:https://toyama-senkakuren.or.jp/events/%e8%87%bc%e4%ba%95%e7%be%8e%e5%ae%b9%e5%b0%82%e9%96%80%e5%ad%a6%e6%a0%a1-2/
CATEGORIES:オープンキャンパス
END:VEVENT
BEGIN:VEVENT
DTSTART;VALUE=DATE:20220709
DTEND;VALUE=DATE:20220710
DTSTAMP:20260424T154018
CREATED:20220624T012754Z
LAST-MODIFIED:20220624T012754Z
UID:1232-1657324800-1657411199@toyama-senkakuren.or.jp
SUMMARY:北陸ビジネス福祉専門学校
DESCRIPTION:学科内容・資格取得・就職状況・選考方法・学校行事などの紹介や、質問にもお答えします。 \nまた、校舎内の見学もいたします！
URL:https://toyama-senkakuren.or.jp/events/%e5%8c%97%e9%99%b8%e3%83%93%e3%82%b8%e3%83%8d%e3%82%b9%e7%a6%8f%e7%a5%89%e5%b0%82%e9%96%80%e5%ad%a6%e6%a0%a1-2/
CATEGORIES:オープンキャンパス
END:VEVENT
BEGIN:VEVENT
DTSTART;VALUE=DATE:20220709
DTEND;VALUE=DATE:20220710
DTSTAMP:20260424T154018
CREATED:20220527T060236Z
LAST-MODIFIED:20220527T060236Z
UID:739-1657324800-1657411199@toyama-senkakuren.or.jp
SUMMARY:富山情報ビジネス専門学校
DESCRIPTION:入試や学校についてから、専攻、就職のことまで、資料やHPを見るだけでは伝わらない生の情報を聞いて、将来の自分をイメージしてください。
URL:https://toyama-senkakuren.or.jp/events/%e5%af%8c%e5%b1%b1%e6%83%85%e5%a0%b1%e3%83%93%e3%82%b8%e3%83%8d%e3%82%b9%e5%b0%82%e9%96%80%e5%ad%a6%e6%a0%a1-4/
CATEGORIES:オープンキャンパス
END:VEVENT
BEGIN:VEVENT
DTSTART;VALUE=DATE:20220710
DTEND;VALUE=DATE:20220711
DTSTAMP:20260424T154018
CREATED:20220527T061027Z
LAST-MODIFIED:20220527T061027Z
UID:751-1657411200-1657497599@toyama-senkakuren.or.jp
SUMMARY:富山県理容美容専門学校
DESCRIPTION:人気サロンによる「BEAUTY SHOW」を毎回開催。\nカットやカラー、メイクなどモデル体験ができるほか、シャンプーやエステを実際に体験することもできます。
URL:https://toyama-senkakuren.or.jp/events/%e5%af%8c%e5%b1%b1%e7%9c%8c%e7%90%86%e5%ae%b9%e7%be%8e%e5%ae%b9%e5%b0%82%e9%96%80%e5%ad%a6%e6%a0%a1-4/
CATEGORIES:オープンキャンパス
END:VEVENT
BEGIN:VEVENT
DTSTART;VALUE=DATE:20220716
DTEND;VALUE=DATE:20220717
DTSTAMP:20260424T154018
CREATED:20220527T055549Z
LAST-MODIFIED:20220527T055549Z
UID:729-1657929600-1658015999@toyama-senkakuren.or.jp
SUMMARY:専門学校富山ビューティーカレッジ
DESCRIPTION:美容に関する情報を得たり、授業や美容の世界を体験できます。\n受付から実習まで在校生が案内するため、その場ですぐに質問することができます。
URL:https://toyama-senkakuren.or.jp/events/%e5%b0%82%e9%96%80%e5%ad%a6%e6%a0%a1%e5%af%8c%e5%b1%b1%e3%83%93%e3%83%a5%e3%83%bc%e3%83%86%e3%82%a3%e3%83%bc%e3%82%ab%e3%83%ac%e3%83%83%e3%82%b8-4/
CATEGORIES:オープンキャンパス
END:VEVENT
BEGIN:VEVENT
DTSTART;VALUE=DATE:20220716
DTEND;VALUE=DATE:20220717
DTSTAMP:20260424T154018
CREATED:20220527T075645Z
LAST-MODIFIED:20220527T075645Z
UID:768-1657929600-1658015999@toyama-senkakuren.or.jp
SUMMARY:総合カレッジSEO
DESCRIPTION:調理実習が体験できます。学校説明や個別相談会も行われます。\n保護者の方の参加もOK！\n予約が必要です。
URL:https://toyama-senkakuren.or.jp/events/%e7%b7%8f%e5%90%88%e3%82%ab%e3%83%ac%e3%83%83%e3%82%b8seo-3/
CATEGORIES:オープンキャンパス
END:VEVENT
BEGIN:VEVENT
DTSTART;VALUE=DATE:20220723
DTEND;VALUE=DATE:20220724
DTSTAMP:20260424T154018
CREATED:20220624T013058Z
LAST-MODIFIED:20220624T013058Z
UID:1234-1658534400-1658620799@toyama-senkakuren.or.jp
SUMMARY:北陸ビジネス福祉専門学校
DESCRIPTION:学科内容・資格取得・就職状況・選考方法・学校行事などの紹介や、質問にもお答えします。 \nまた、校舎内の見学もいたします！
URL:https://toyama-senkakuren.or.jp/events/%e5%8c%97%e9%99%b8%e3%83%93%e3%82%b8%e3%83%8d%e3%82%b9%e7%a6%8f%e7%a5%89%e5%b0%82%e9%96%80%e5%ad%a6%e6%a0%a1-3/
CATEGORIES:オープンキャンパス
END:VEVENT
BEGIN:VEVENT
DTSTART;VALUE=DATE:20220723
DTEND;VALUE=DATE:20220724
DTSTAMP:20260424T154018
CREATED:20220527T060401Z
LAST-MODIFIED:20220527T060401Z
UID:740-1658534400-1658620799@toyama-senkakuren.or.jp
SUMMARY:富山情報ビジネス専門学校
DESCRIPTION:入試や学校についてから、専攻、就職のことまで、資料やHPを見るだけでは伝わらない生の情報を聞いて、将来の自分をイメージしてください。
URL:https://toyama-senkakuren.or.jp/events/%e5%af%8c%e5%b1%b1%e6%83%85%e5%a0%b1%e3%83%93%e3%82%b8%e3%83%8d%e3%82%b9%e5%b0%82%e9%96%80%e5%ad%a6%e6%a0%a1-5/
CATEGORIES:オープンキャンパス
END:VEVENT
BEGIN:VEVENT
DTSTART;VALUE=DATE:20220723
DTEND;VALUE=DATE:20220724
DTSTAMP:20260424T154018
CREATED:20220527T061128Z
LAST-MODIFIED:20220527T061128Z
UID:754-1658534400-1658620799@toyama-senkakuren.or.jp
SUMMARY:富山県理容美容専門学校
DESCRIPTION:人気サロンによる「BEAUTY SHOW」を毎回開催。\nカットやカラー、メイクなどモデル体験ができるほか、シャンプーやエステを実際に体験することもできます。
URL:https://toyama-senkakuren.or.jp/events/%e5%af%8c%e5%b1%b1%e7%9c%8c%e7%90%86%e5%ae%b9%e7%be%8e%e5%ae%b9%e5%b0%82%e9%96%80%e5%ad%a6%e6%a0%a1-5/
CATEGORIES:オープンキャンパス
END:VEVENT
BEGIN:VEVENT
DTSTART;VALUE=DATE:20220725
DTEND;VALUE=DATE:20220726
DTSTAMP:20260424T154018
CREATED:20220624T010816Z
LAST-MODIFIED:20220624T010816Z
UID:1223-1658707200-1658793599@toyama-senkakuren.or.jp
SUMMARY:臼井美容専門学校
DESCRIPTION:学科内容・資格取得・就職状況・選考方法・学校行事などの紹介や、質問にもお答えします。\nまた、校舎内の見学や様々な体験もできます。
URL:https://toyama-senkakuren.or.jp/events/%e8%87%bc%e4%ba%95%e7%be%8e%e5%ae%b9%e5%b0%82%e9%96%80%e5%ad%a6%e6%a0%a1-3/
CATEGORIES:オープンキャンパス
END:VEVENT
BEGIN:VEVENT
DTSTART;VALUE=DATE:20220726
DTEND;VALUE=DATE:20220727
DTSTAMP:20260424T154018
CREATED:20220527T061819Z
LAST-MODIFIED:20220527T061819Z
UID:760-1658793600-1658879999@toyama-senkakuren.or.jp
SUMMARY:富山クリエイティブ専門学校
DESCRIPTION:建築・デザイン各学科を象徴する簡単な作品や課題制作が体験できます。卒業生や現役生の作品・課題などの紹介しています。
URL:https://toyama-senkakuren.or.jp/events/%e5%af%8c%e5%b1%b1%e3%82%af%e3%83%aa%e3%82%a8%e3%82%a4%e3%83%86%e3%82%a3%e3%83%96%e5%b0%82%e9%96%80%e5%ad%a6%e6%a0%a1-3/
CATEGORIES:オープンキャンパス
END:VEVENT
BEGIN:VEVENT
DTSTART;VALUE=DATE:20220727
DTEND;VALUE=DATE:20220728
DTSTAMP:20260424T154018
CREATED:20220527T060820Z
LAST-MODIFIED:20220527T060820Z
UID:746-1658880000-1658966399@toyama-senkakuren.or.jp
SUMMARY:富山調理製菓専門学校
DESCRIPTION:プロから学ぶ実習体験の他、学科・入試説明もあります。\n事前予約が必要です。
URL:https://toyama-senkakuren.or.jp/events/%e5%af%8c%e5%b1%b1%e8%aa%bf%e7%90%86%e8%a3%bd%e8%8f%93%e5%b0%82%e9%96%80%e5%ad%a6%e6%a0%a1-5/
CATEGORIES:オープンキャンパス
END:VEVENT
BEGIN:VEVENT
DTSTART;VALUE=DATE:20220727
DTEND;VALUE=DATE:20220728
DTSTAMP:20260424T154018
CREATED:20220527T075427Z
LAST-MODIFIED:20220527T075807Z
UID:763-1658880000-1658966399@toyama-senkakuren.or.jp
SUMMARY:高岡第一学園幼稚園教諭・保育士養成所
DESCRIPTION:高校生のための幼児教育体験講座。 \n午前中は幼稚園で子どもたちと遊び、午後からは幼児教育について学習します。未来の職業選択のきっかけができると思います。子ども大好き！そして幼児教育に関心のあるみなさんの参加を待っています！
URL:https://toyama-senkakuren.or.jp/events/%e9%ab%98%e5%b2%a1%e7%ac%ac%e4%b8%80%e5%ad%a6%e5%9c%92%e5%b9%bc%e7%a8%9a%e5%9c%92%e6%95%99%e8%ab%ad%e3%83%bb%e4%bf%9d%e8%82%b2%e5%a3%ab%e9%a4%8a%e6%88%90%e6%89%80/
CATEGORIES:オープンキャンパス
END:VEVENT
BEGIN:VEVENT
DTSTART;VALUE=DATE:20220730
DTEND;VALUE=DATE:20220731
DTSTAMP:20260424T154018
CREATED:20220527T055742Z
LAST-MODIFIED:20220527T055742Z
UID:735-1659139200-1659225599@toyama-senkakuren.or.jp
SUMMARY:専門学校富山ビューティーカレッジ
DESCRIPTION:美容に関する情報を得たり、授業や美容の世界を体験できます。\n受付から実習まで在校生が案内するため、その場ですぐに質問することができます。
URL:https://toyama-senkakuren.or.jp/events/%e5%b0%82%e9%96%80%e5%ad%a6%e6%a0%a1%e5%af%8c%e5%b1%b1%e3%83%93%e3%83%a5%e3%83%bc%e3%83%86%e3%82%a3%e3%83%bc%e3%82%ab%e3%83%ac%e3%83%83%e3%82%b8-5/
CATEGORIES:オープンキャンパス
END:VEVENT
BEGIN:VEVENT
DTSTART;VALUE=DATE:20220731
DTEND;VALUE=DATE:20220801
DTSTAMP:20260424T154018
CREATED:20220527T061243Z
LAST-MODIFIED:20220527T061243Z
UID:753-1659225600-1659311999@toyama-senkakuren.or.jp
SUMMARY:富山県理容美容専門学校
DESCRIPTION:人気サロンによる「BEAUTY SHOW」を毎回開催。\nカットやカラー、メイクなどモデル体験ができるほか、シャンプーやエステを実際に体験することもできます。
URL:https://toyama-senkakuren.or.jp/events/%e5%af%8c%e5%b1%b1%e7%9c%8c%e7%90%86%e5%ae%b9%e7%be%8e%e5%ae%b9%e5%b0%82%e9%96%80%e5%ad%a6%e6%a0%a1-6/
CATEGORIES:オープンキャンパス
END:VEVENT
END:VCALENDAR