BEGIN:VCALENDAR
VERSION:2.0
PRODID:-//富山県専修学校各種学校連合会｜専修（専門）学校・各種学校紹介 - ECPv5.14.1//NONSGML v1.0//EN
CALSCALE:GREGORIAN
METHOD:PUBLISH
X-WR-CALNAME:富山県専修学校各種学校連合会｜専修（専門）学校・各種学校紹介
X-ORIGINAL-URL:https://toyama-senkakuren.or.jp
X-WR-CALDESC:Events for 富山県専修学校各種学校連合会｜専修（専門）学校・各種学校紹介
REFRESH-INTERVAL;VALUE=DURATION:PT1H
X-Robots-Tag:noindex
X-PUBLISHED-TTL:PT1H
BEGIN:VTIMEZONE
TZID:Asia/Tokyo
BEGIN:STANDARD
TZOFFSETFROM:+0900
TZOFFSETTO:+0900
TZNAME:JST
DTSTART:20220101T000000
END:STANDARD
END:VTIMEZONE
BEGIN:VEVENT
DTSTART;TZID=Asia/Tokyo:20220518T133000
DTEND;TZID=Asia/Tokyo:20220518T153000
DTSTAMP:20260425T003627
CREATED:20220419T051804Z
LAST-MODIFIED:20220419T052621Z
UID:659-1652880600-1652887800@toyama-senkakuren.or.jp
SUMMARY:進学相談会（高校教員向け）
DESCRIPTION:富山県専修学校各種学校連合会（富山専各連）では、高等学校の先生方へ向けた進学相談会を開催します。\n県内の専門学校・各種学校１２校が参加して、進学相談会を行います。また、キャリア教育や専修学校・各種学校についての説明会も予定しています。詳しくは、こちら \n 
URL:https://toyama-senkakuren.or.jp/events/%e9%80%b2%e5%ad%a6%e7%9b%b8%e8%ab%87%e4%bc%9a%ef%bc%88%e9%ab%98%e7%ad%89%e5%ad%a6%e6%a0%a1%e5%90%91%e3%81%91%ef%bc%89/
LOCATION:とやま自遊館ホール\, 富山市湊入船町9番1号
CATEGORIES:富山専各連主催
ORGANIZER;CN="%E5%AF%8C%E5%B1%B1%E7%9C%8C%E5%B0%82%E4%BF%AE%E5%AD%A6%E6%A0%A1%E5%90%84%E7%A8%AE%E5%AD%A6%E6%A0%A1%E9%80%A3%E5%90%88%E4%BC%9A":MAILTO:info@toyama-senkakuren.or.jp
END:VEVENT
END:VCALENDAR